BEGIN:VCALENDAR
VERSION:2.0
PRODID:-//Gemeinschaftsgrundschule - ECPv6.8.1//NONSGML v1.0//EN
CALSCALE:GREGORIAN
METHOD:PUBLISH
X-WR-CALNAME:Gemeinschaftsgrundschule
X-ORIGINAL-URL:https://breddeschule.de
X-WR-CALDESC:Veranstaltungen für Gemeinschaftsgrundschule
REFRESH-INTERVAL;VALUE=DURATION:PT1H
X-Robots-Tag:noindex
X-PUBLISHED-TTL:PT1H
BEGIN:VTIMEZONE
TZID:Europe/Helsinki
BEGIN:DAYLIGHT
TZOFFSETFROM:+0200
TZOFFSETTO:+0300
TZNAME:EEST
DTSTART:20150329T010000
END:DAYLIGHT
BEGIN:STANDARD
TZOFFSETFROM:+0300
TZOFFSETTO:+0200
TZNAME:EET
DTSTART:20151025T010000
END:STANDARD
END:VTIMEZONE
BEGIN:VEVENT
DTSTART;TZID=Europe/Helsinki:20150828T081500
DTEND;TZID=Europe/Helsinki:20150828T093000
DTSTAMP:20260423T013912
CREATED:20150820T154457Z
LAST-MODIFIED:20160215T172700Z
UID:1691-1440749700-1440754200@breddeschule.de
SUMMARY:Elterncafe ( BreddeTreff)
DESCRIPTION:Breddetreff
URL:https://breddeschule.de/veranstaltung/elterncafe/
CATEGORIES:2015/2016
END:VEVENT
END:VCALENDAR