BEGIN:VCALENDAR
VERSION:2.0
PRODID:-//Gemeinschaftsgrundschule - ECPv6.8.1//NONSGML v1.0//EN
CALSCALE:GREGORIAN
METHOD:PUBLISH
X-ORIGINAL-URL:https://breddeschule.de
X-WR-CALDESC:Veranstaltungen für Gemeinschaftsgrundschule
REFRESH-INTERVAL;VALUE=DURATION:PT1H
X-Robots-Tag:noindex
X-PUBLISHED-TTL:PT1H
BEGIN:VTIMEZONE
TZID:Europe/Helsinki
BEGIN:DAYLIGHT
TZOFFSETFROM:+0200
TZOFFSETTO:+0300
TZNAME:EEST
DTSTART:20240331T010000
END:DAYLIGHT
BEGIN:STANDARD
TZOFFSETFROM:+0300
TZOFFSETTO:+0200
TZNAME:EET
DTSTART:20241027T010000
END:STANDARD
END:VTIMEZONE
BEGIN:VEVENT
DTSTART;TZID=Europe/Helsinki:20240701T080000
DTEND;TZID=Europe/Helsinki:20240701T120000
DTSTAMP:20260420T043302
CREATED:20230822T143326Z
LAST-MODIFIED:20231115T155534Z
UID:6028-1719820800-1719835200@breddeschule.de
SUMMARY:Zeugnisausgabe Klasse 1 - 3
DESCRIPTION:
URL:https://breddeschule.de/veranstaltung/zeugnisausgabe-klasse-1-3-2/
END:VEVENT
BEGIN:VEVENT
DTSTART;TZID=Europe/Helsinki:20240704T080000
DTEND;TZID=Europe/Helsinki:20240704T090000
DTSTAMP:20260420T043302
CREATED:20230822T143424Z
LAST-MODIFIED:20231115T155559Z
UID:6032-1720080000-1720083600@breddeschule.de
SUMMARY:Antolin-Ehrung
DESCRIPTION:
URL:https://breddeschule.de/veranstaltung/antolin-ehrung-5/
END:VEVENT
BEGIN:VEVENT
DTSTART;TZID=Europe/Helsinki:20240705T080000
DTEND;TZID=Europe/Helsinki:20240705T120000
DTSTAMP:20260420T043302
CREATED:20230822T143358Z
LAST-MODIFIED:20231115T155641Z
UID:6030-1720166400-1720180800@breddeschule.de
SUMMARY:Abschiedsfeier und Zeugnisausgabe Klasse 4
DESCRIPTION:
URL:https://breddeschule.de/veranstaltung/abschiedsfeier-und-zeugnisausgabe-klasse-4/
END:VEVENT
BEGIN:VEVENT
DTSTART;VALUE=DATE:20240708
DTEND;VALUE=DATE:20240822
DTSTAMP:20260420T043302
CREATED:20230822T143454Z
LAST-MODIFIED:20231115T160439Z
UID:6034-1720425600-1724227199@breddeschule.de
SUMMARY:Sommerferien
DESCRIPTION:
URL:https://breddeschule.de/veranstaltung/sommerferien-12/
END:VEVENT
END:VCALENDAR