BEGIN:VCALENDAR
VERSION:2.0
PRODID:-//Gemeinschaftsgrundschule - ECPv6.8.1//NONSGML v1.0//EN
CALSCALE:GREGORIAN
METHOD:PUBLISH
X-WR-CALNAME:Gemeinschaftsgrundschule
X-ORIGINAL-URL:https://breddeschule.de
X-WR-CALDESC:Veranstaltungen für Gemeinschaftsgrundschule
REFRESH-INTERVAL;VALUE=DURATION:PT1H
X-Robots-Tag:noindex
X-PUBLISHED-TTL:PT1H
BEGIN:VTIMEZONE
TZID:Europe/Helsinki
BEGIN:DAYLIGHT
TZOFFSETFROM:+0200
TZOFFSETTO:+0300
TZNAME:EEST
DTSTART:20240331T010000
END:DAYLIGHT
BEGIN:STANDARD
TZOFFSETFROM:+0300
TZOFFSETTO:+0200
TZNAME:EET
DTSTART:20241027T010000
END:STANDARD
END:VTIMEZONE
BEGIN:VEVENT
DTSTART;VALUE=DATE:20240506
DTEND;VALUE=DATE:20240508
DTSTAMP:20260420T071425
CREATED:20230822T142704Z
LAST-MODIFIED:20231115T160531Z
UID:6007-1714982400-1715068799@breddeschule.de
SUMMARY:VERA (Mathematik\, Klasse 3)
DESCRIPTION:
URL:https://breddeschule.de/veranstaltung/vera-mathematik-klasse-3-2/
END:VEVENT
BEGIN:VEVENT
DTSTART;VALUE=DATE:20240510
DTEND;VALUE=DATE:20240512
DTSTAMP:20260420T071425
CREATED:20230822T142732Z
LAST-MODIFIED:20231115T160513Z
UID:6009-1715328000-1715414399@breddeschule.de
SUMMARY:beweglicher Ferientag
DESCRIPTION:
URL:https://breddeschule.de/veranstaltung/beweglicher-ferientag-14/
END:VEVENT
BEGIN:VEVENT
DTSTART;TZID=Europe/Helsinki:20240514T080000
DTEND;TZID=Europe/Helsinki:20240514T160000
DTSTAMP:20260420T071425
CREATED:20230822T142805Z
LAST-MODIFIED:20231115T155349Z
UID:6011-1715673600-1715702400@breddeschule.de
SUMMARY:pädagogischer Tag (SchiLf)
DESCRIPTION:
URL:https://breddeschule.de/veranstaltung/paedagogische-konferenz-schilf/
END:VEVENT
BEGIN:VEVENT
DTSTART;VALUE=DATE:20240521
DTEND;VALUE=DATE:20240523
DTSTAMP:20260420T071425
CREATED:20230822T142924Z
LAST-MODIFIED:20231115T160459Z
UID:6014-1716278400-1716364799@breddeschule.de
SUMMARY:Pfingstpause (unterrichtsfrei)
DESCRIPTION:
URL:https://breddeschule.de/veranstaltung/pfingstpause-unterrichtsfrei-4/
END:VEVENT
BEGIN:VEVENT
DTSTART;VALUE=DATE:20240531
DTEND;VALUE=DATE:20240602
DTSTAMP:20260420T071425
CREATED:20230822T142944Z
LAST-MODIFIED:20231115T160424Z
UID:6016-1717142400-1717228799@breddeschule.de
SUMMARY:beweglicher Ferientag
DESCRIPTION:
URL:https://breddeschule.de/veranstaltung/beweglicher-ferientag-15/
END:VEVENT
END:VCALENDAR