BEGIN:VCALENDAR
VERSION:2.0
PRODID:-//Gemeinschaftsgrundschule - ECPv6.8.1//NONSGML v1.0//EN
CALSCALE:GREGORIAN
METHOD:PUBLISH
X-WR-CALNAME:Gemeinschaftsgrundschule
X-ORIGINAL-URL:https://breddeschule.de
X-WR-CALDESC:Veranstaltungen für Gemeinschaftsgrundschule
REFRESH-INTERVAL;VALUE=DURATION:PT1H
X-Robots-Tag:noindex
X-PUBLISHED-TTL:PT1H
BEGIN:VTIMEZONE
TZID:Europe/Helsinki
BEGIN:DAYLIGHT
TZOFFSETFROM:+0200
TZOFFSETTO:+0300
TZNAME:EEST
DTSTART:20230326T010000
END:DAYLIGHT
BEGIN:STANDARD
TZOFFSETFROM:+0300
TZOFFSETTO:+0200
TZNAME:EET
DTSTART:20231029T010000
END:STANDARD
END:VTIMEZONE
BEGIN:VEVENT
DTSTART;VALUE=DATE:20230601
DTEND;VALUE=DATE:20230603
DTSTAMP:20260420T222532
CREATED:20220810T151720Z
LAST-MODIFIED:20220810T151735Z
UID:5728-1685606400-1685692799@breddeschule.de
SUMMARY:Spiel- und Sportfest**
DESCRIPTION:
URL:https://breddeschule.de/veranstaltung/spiel-und-sportfest-4/
END:VEVENT
BEGIN:VEVENT
DTSTART;TZID=Europe/Helsinki:20230605T180000
DTEND;TZID=Europe/Helsinki:20230605T190000
DTSTAMP:20260420T222532
CREATED:20220810T151632Z
LAST-MODIFIED:20230601T155400Z
UID:5725-1685988000-1685991600@breddeschule.de
SUMMARY:Infoabend Einschulung Schulanfänger
DESCRIPTION:
URL:https://breddeschule.de/veranstaltung/infoabend-einschulung-schulanfaenger/
END:VEVENT
BEGIN:VEVENT
DTSTART;VALUE=DATE:20230607
DTEND;VALUE=DATE:20230609
DTSTAMP:20260420T222532
CREATED:20220810T151818Z
LAST-MODIFIED:20220810T151837Z
UID:5730-1686124800-1686211199@breddeschule.de
SUMMARY:Ausweichtermin Spiel- und Sportfest**
DESCRIPTION:
URL:https://breddeschule.de/veranstaltung/ausweichtermin-spiel-und-sportfest/
END:VEVENT
BEGIN:VEVENT
DTSTART;VALUE=DATE:20230609
DTEND;VALUE=DATE:20230611
DTSTAMP:20260420T222532
CREATED:20220810T151925Z
LAST-MODIFIED:20220810T151925Z
UID:5732-1686297600-1686383999@breddeschule.de
SUMMARY:Beweglicher Ferientag
DESCRIPTION:
URL:https://breddeschule.de/veranstaltung/beweglicher-ferientag-12/
END:VEVENT
BEGIN:VEVENT
DTSTART;VALUE=DATE:20230615
DTEND;VALUE=DATE:20230617
DTSTAMP:20260420T222532
CREATED:20220810T152003Z
LAST-MODIFIED:20220810T152003Z
UID:5734-1686816000-1686902399@breddeschule.de
SUMMARY:Schulwandertag**
DESCRIPTION:
URL:https://breddeschule.de/veranstaltung/schulwandertag-9/
END:VEVENT
BEGIN:VEVENT
DTSTART;TZID=Europe/Helsinki:20230616T080000
DTEND;TZID=Europe/Helsinki:20230616T090000
DTSTAMP:20260420T222532
CREATED:20220810T152039Z
LAST-MODIFIED:20220810T152039Z
UID:5736-1686902400-1686906000@breddeschule.de
SUMMARY:Antolin-Ehrung
DESCRIPTION:
URL:https://breddeschule.de/veranstaltung/antolin-ehrung-3/
END:VEVENT
BEGIN:VEVENT
DTSTART;TZID=Europe/Helsinki:20230619T080000
DTEND;TZID=Europe/Helsinki:20230619T170000
DTSTAMP:20260420T222532
CREATED:20220810T152138Z
LAST-MODIFIED:20220810T152138Z
UID:5738-1687161600-1687194000@breddeschule.de
SUMMARY:Zeugnisausgabe Klasse 1-3 (Kopie)
DESCRIPTION:
URL:https://breddeschule.de/veranstaltung/zeugnisausgabe-klasse-1-3-kopie-2/
END:VEVENT
BEGIN:VEVENT
DTSTART;TZID=Europe/Helsinki:20230621T080000
DTEND;TZID=Europe/Helsinki:20230621T170000
DTSTAMP:20260420T222532
CREATED:20220810T152217Z
LAST-MODIFIED:20220810T152217Z
UID:5740-1687334400-1687366800@breddeschule.de
SUMMARY:Zeugnisausgabe Klasse 4
DESCRIPTION:
URL:https://breddeschule.de/veranstaltung/zeugnisausgabe-klasse-4-2/
END:VEVENT
BEGIN:VEVENT
DTSTART;TZID=Europe/Helsinki:20230622T080000
DTEND;TZID=Europe/Helsinki:20230804T170000
DTSTAMP:20260420T222532
CREATED:20220810T152248Z
LAST-MODIFIED:20220810T152248Z
UID:5742-1687420800-1691168400@breddeschule.de
SUMMARY:Sommerferien
DESCRIPTION:
URL:https://breddeschule.de/veranstaltung/sommerferien-11/
END:VEVENT
END:VCALENDAR