BEGIN:VCALENDAR
VERSION:2.0
PRODID:-//Gemeinschaftsgrundschule - ECPv6.8.1//NONSGML v1.0//EN
CALSCALE:GREGORIAN
METHOD:PUBLISH
X-ORIGINAL-URL:https://breddeschule.de
X-WR-CALDESC:Veranstaltungen für Gemeinschaftsgrundschule
REFRESH-INTERVAL;VALUE=DURATION:PT1H
X-Robots-Tag:noindex
X-PUBLISHED-TTL:PT1H
BEGIN:VTIMEZONE
TZID:Europe/Helsinki
BEGIN:DAYLIGHT
TZOFFSETFROM:+0200
TZOFFSETTO:+0300
TZNAME:EEST
DTSTART:20220327T010000
END:DAYLIGHT
BEGIN:STANDARD
TZOFFSETFROM:+0300
TZOFFSETTO:+0200
TZNAME:EET
DTSTART:20221030T010000
END:STANDARD
END:VTIMEZONE
BEGIN:VEVENT
DTSTART;VALUE=DATE:20220627
DTEND;VALUE=DATE:20220811
DTSTAMP:20260421T113312
CREATED:20210901T150733Z
LAST-MODIFIED:20210902T164634Z
UID:5465-1656316800-1660118399@breddeschule.de
SUMMARY:Sommerferien
DESCRIPTION:
URL:https://breddeschule.de/veranstaltung/sommerferien-10/
END:VEVENT
BEGIN:VEVENT
DTSTART;TZID=Europe/Helsinki:20220811T100000
DTEND;TZID=Europe/Helsinki:20220811T100000
DTSTAMP:20260421T113312
CREATED:20220810T143713Z
LAST-MODIFIED:20220810T143713Z
UID:5627-1660212000-1660212000@breddeschule.de
SUMMARY:Einschulung
DESCRIPTION:
URL:https://breddeschule.de/veranstaltung/einschulung-4/
END:VEVENT
BEGIN:VEVENT
DTSTART;TZID=Europe/Helsinki:20220822T080000
DTEND;TZID=Europe/Helsinki:20220831T170000
DTSTAMP:20260421T113312
CREATED:20220810T144128Z
LAST-MODIFIED:20220810T144128Z
UID:5631-1661155200-1661965200@breddeschule.de
SUMMARY:Klassenpflegschaften
DESCRIPTION:
URL:https://breddeschule.de/veranstaltung/klassenpflegschaften-3/
END:VEVENT
BEGIN:VEVENT
DTSTART;TZID=Europe/Helsinki:20220822T180000
DTEND;TZID=Europe/Helsinki:20220822T180000
DTSTAMP:20260421T113312
CREATED:20220810T144021Z
LAST-MODIFIED:20220822T100206Z
UID:5629-1661191200-1661191200@breddeschule.de
SUMMARY:Infoabend Schulanfänger Schuljahr 23/24
DESCRIPTION:
URL:https://breddeschule.de/veranstaltung/infoabend-schulanfaenger-schuljahr-23-24/
END:VEVENT
BEGIN:VEVENT
DTSTART;TZID=Europe/Helsinki:20220829T080000
DTEND;TZID=Europe/Helsinki:20220909T170000
DTSTAMP:20260421T113312
CREATED:20220810T144205Z
LAST-MODIFIED:20220810T144205Z
UID:5633-1661760000-1662742800@breddeschule.de
SUMMARY:Zirkusprojekt
DESCRIPTION:
URL:https://breddeschule.de/veranstaltung/zirkusprojekt/
END:VEVENT
END:VCALENDAR