BEGIN:VCALENDAR
VERSION:2.0
PRODID:-//Gemeinschaftsgrundschule - ECPv6.8.1//NONSGML v1.0//EN
CALSCALE:GREGORIAN
METHOD:PUBLISH
X-WR-CALNAME:Gemeinschaftsgrundschule
X-ORIGINAL-URL:https://breddeschule.de
X-WR-CALDESC:Veranstaltungen für Gemeinschaftsgrundschule
REFRESH-INTERVAL;VALUE=DURATION:PT1H
X-Robots-Tag:noindex
X-PUBLISHED-TTL:PT1H
BEGIN:VTIMEZONE
TZID:Europe/Helsinki
BEGIN:DAYLIGHT
TZOFFSETFROM:+0200
TZOFFSETTO:+0300
TZNAME:EEST
DTSTART:20220327T010000
END:DAYLIGHT
BEGIN:STANDARD
TZOFFSETFROM:+0300
TZOFFSETTO:+0200
TZNAME:EET
DTSTART:20221030T010000
END:STANDARD
END:VTIMEZONE
BEGIN:VEVENT
DTSTART;VALUE=DATE:20220601
DTEND;VALUE=DATE:20220603
DTSTAMP:20260423T125430
CREATED:20210901T150246Z
LAST-MODIFIED:20210902T164827Z
UID:5447-1654070400-1654156799@breddeschule.de
SUMMARY:Spiel- und Sportfest (Jahnplatz)**
DESCRIPTION:* *Termin\, falls die Corona-Situation es zulässt.
URL:https://breddeschule.de/veranstaltung/spiel-und-sportfest-jahnplatz/
END:VEVENT
BEGIN:VEVENT
DTSTART;VALUE=DATE:20220602
DTEND;VALUE=DATE:20220604
DTSTAMP:20260423T125430
CREATED:20210901T150322Z
LAST-MODIFIED:20210902T164816Z
UID:5449-1654156800-1654243199@breddeschule.de
SUMMARY:1. Schnuppernachmittag Schulanfänger**
DESCRIPTION:* *Termin\, falls die Corona-Situation es zulässt.
URL:https://breddeschule.de/veranstaltung/1-schnuppernachmittag-schulanfaenger/
END:VEVENT
BEGIN:VEVENT
DTSTART;VALUE=DATE:20220608
DTEND;VALUE=DATE:20220610
DTSTAMP:20260423T125430
CREATED:20210901T150407Z
LAST-MODIFIED:20210902T164804Z
UID:5451-1654675200-1654761599@breddeschule.de
SUMMARY:Spiel- und Sportfest - Ausweichtermin (Jahnplatz)
DESCRIPTION:
URL:https://breddeschule.de/veranstaltung/spiel-und-sportfest-ausweichtermin-jahnplatz/
END:VEVENT
BEGIN:VEVENT
DTSTART;VALUE=DATE:20220609
DTEND;VALUE=DATE:20220611
DTSTAMP:20260423T125430
CREATED:20210901T150438Z
LAST-MODIFIED:20210902T164750Z
UID:5453-1654761600-1654847999@breddeschule.de
SUMMARY:2. Schnuppernachmittag Schulanfänger**
DESCRIPTION:* *Termin\, falls die Corona-Situation es zulässt.
URL:https://breddeschule.de/veranstaltung/2-schnuppernachmittag-schulanfaenger/
END:VEVENT
BEGIN:VEVENT
DTSTART;VALUE=DATE:20220617
DTEND;VALUE=DATE:20220619
DTSTAMP:20260423T125430
CREATED:20210901T150455Z
LAST-MODIFIED:20210902T164308Z
UID:5455-1655452800-1655539199@breddeschule.de
SUMMARY:schulfrei
DESCRIPTION:
URL:https://breddeschule.de/veranstaltung/schulfrei-2/
END:VEVENT
BEGIN:VEVENT
DTSTART;VALUE=DATE:20220620
DTEND;VALUE=DATE:20220622
DTSTAMP:20260423T125430
CREATED:20210901T150557Z
LAST-MODIFIED:20210902T164727Z
UID:5459-1655712000-1655798399@breddeschule.de
SUMMARY:Zeugnisausgabe Klasse 1 - 3 (Kopie)
DESCRIPTION:
URL:https://breddeschule.de/veranstaltung/zeugnisausgabe-klasse-1-3-kopie/
END:VEVENT
BEGIN:VEVENT
DTSTART;VALUE=DATE:20220620
DTEND;VALUE=DATE:20220626
DTSTAMP:20260423T125430
CREATED:20210901T150517Z
LAST-MODIFIED:20210902T164703Z
UID:5457-1655712000-1656143999@breddeschule.de
SUMMARY:Feuerrutschen
DESCRIPTION:
URL:https://breddeschule.de/veranstaltung/feuerrutschen-4/
END:VEVENT
BEGIN:VEVENT
DTSTART;VALUE=DATE:20220622
DTEND;VALUE=DATE:20220624
DTSTAMP:20260423T125430
CREATED:20210901T150632Z
LAST-MODIFIED:20210902T164653Z
UID:5461-1655884800-1655971199@breddeschule.de
SUMMARY:Schulwandertag**
DESCRIPTION:* *Termin\, falls die Corona-Situation es zulässt.
URL:https://breddeschule.de/veranstaltung/schulwandertag-8/
END:VEVENT
BEGIN:VEVENT
DTSTART;VALUE=DATE:20220624
DTEND;VALUE=DATE:20220626
DTSTAMP:20260423T125430
CREATED:20210901T150656Z
LAST-MODIFIED:20210902T164558Z
UID:5463-1656057600-1656143999@breddeschule.de
SUMMARY:Zeugnisausgabe Klasse 4
DESCRIPTION:
URL:https://breddeschule.de/veranstaltung/zeugnisausgabe-klasse-4/
END:VEVENT
BEGIN:VEVENT
DTSTART;VALUE=DATE:20220627
DTEND;VALUE=DATE:20220811
DTSTAMP:20260423T125430
CREATED:20210901T150733Z
LAST-MODIFIED:20210902T164634Z
UID:5465-1656316800-1660118399@breddeschule.de
SUMMARY:Sommerferien
DESCRIPTION:
URL:https://breddeschule.de/veranstaltung/sommerferien-10/
END:VEVENT
END:VCALENDAR