BEGIN:VCALENDAR
VERSION:2.0
PRODID:-//Gemeinschaftsgrundschule - ECPv6.8.1//NONSGML v1.0//EN
CALSCALE:GREGORIAN
METHOD:PUBLISH
X-ORIGINAL-URL:https://breddeschule.de
X-WR-CALDESC:Veranstaltungen für Gemeinschaftsgrundschule
REFRESH-INTERVAL;VALUE=DURATION:PT1H
X-Robots-Tag:noindex
X-PUBLISHED-TTL:PT1H
BEGIN:VTIMEZONE
TZID:Europe/Helsinki
BEGIN:DAYLIGHT
TZOFFSETFROM:+0200
TZOFFSETTO:+0300
TZNAME:EEST
DTSTART:20220327T010000
END:DAYLIGHT
BEGIN:STANDARD
TZOFFSETFROM:+0300
TZOFFSETTO:+0200
TZNAME:EET
DTSTART:20221030T010000
END:STANDARD
END:VTIMEZONE
BEGIN:VEVENT
DTSTART;VALUE=DATE:20220201
DTEND;VALUE=DATE:20220206
DTSTAMP:20260423T175641
CREATED:20210901T144259Z
LAST-MODIFIED:20210901T151146Z
UID:5404-1643702400-1644047999@breddeschule.de
SUMMARY:Beratungsgespräche Klasse 3/4 n. Bedarf
DESCRIPTION:
URL:https://breddeschule.de/veranstaltung/beratungsgespraeche-klasse-3-4-nach-bedarf/
END:VEVENT
BEGIN:VEVENT
DTSTART;VALUE=DATE:20220207
DTEND;VALUE=DATE:20220213
DTSTAMP:20260423T175641
CREATED:20210901T144332Z
LAST-MODIFIED:20210902T170818Z
UID:5406-1644220800-1644652799@breddeschule.de
SUMMARY:Klassenpflegschaften
DESCRIPTION:
URL:https://breddeschule.de/veranstaltung/klassenpflegschaften-2/
END:VEVENT
BEGIN:VEVENT
DTSTART;VALUE=DATE:20220214
DTEND;VALUE=DATE:20220220
DTSTAMP:20260423T175641
CREATED:20210901T144458Z
LAST-MODIFIED:20210902T170733Z
UID:5410-1644825600-1645257599@breddeschule.de
SUMMARY:Methodenwoche "Kommunikation"
DESCRIPTION:
URL:https://breddeschule.de/veranstaltung/methodenwoche-kommunikation/
END:VEVENT
BEGIN:VEVENT
DTSTART;TZID=Europe/Helsinki:20220217T180000
DTEND;TZID=Europe/Helsinki:20220217T210000
DTSTAMP:20260423T175641
CREATED:20210901T144426Z
LAST-MODIFIED:20210902T170711Z
UID:5408-1645120800-1645131600@breddeschule.de
SUMMARY:Schulpflegschaft
DESCRIPTION:
URL:https://breddeschule.de/veranstaltung/schulpflegschaft-3/
END:VEVENT
BEGIN:VEVENT
DTSTART;TZID=Europe/Helsinki:20220222T180000
DTEND;TZID=Europe/Helsinki:20220222T210000
DTSTAMP:20260423T175641
CREATED:20210901T144530Z
LAST-MODIFIED:20210902T170657Z
UID:5412-1645552800-1645563600@breddeschule.de
SUMMARY:Schulkonferenz
DESCRIPTION:
URL:https://breddeschule.de/veranstaltung/schulkonferenz-3/
END:VEVENT
BEGIN:VEVENT
DTSTART;VALUE=DATE:20220225
DTEND;VALUE=DATE:20220227
DTSTAMP:20260423T175641
CREATED:20210901T144616Z
LAST-MODIFIED:20210902T170644Z
UID:5414-1645776000-1645862399@breddeschule.de
SUMMARY:Karneval**
DESCRIPTION:* *Termin\, falls die Corona-Situation es zulässt.
URL:https://breddeschule.de/veranstaltung/karneval/
END:VEVENT
BEGIN:VEVENT
DTSTART;VALUE=DATE:20220228
DTEND;VALUE=DATE:20220302
DTSTAMP:20260423T175641
CREATED:20210901T144701Z
LAST-MODIFIED:20210902T170622Z
UID:5416-1646035200-1646121599@breddeschule.de
SUMMARY:Rosenmontag - frei
DESCRIPTION:
URL:https://breddeschule.de/veranstaltung/rosenmontag-frei/
END:VEVENT
END:VCALENDAR