BEGIN:VCALENDAR
VERSION:2.0
PRODID:-//Gemeinschaftsgrundschule - ECPv6.8.1//NONSGML v1.0//EN
CALSCALE:GREGORIAN
METHOD:PUBLISH
X-ORIGINAL-URL:https://breddeschule.de
X-WR-CALDESC:Veranstaltungen für Gemeinschaftsgrundschule
REFRESH-INTERVAL;VALUE=DURATION:PT1H
X-Robots-Tag:noindex
X-PUBLISHED-TTL:PT1H
BEGIN:VTIMEZONE
TZID:Europe/Helsinki
BEGIN:DAYLIGHT
TZOFFSETFROM:+0200
TZOFFSETTO:+0300
TZNAME:EEST
DTSTART:20210328T010000
END:DAYLIGHT
BEGIN:STANDARD
TZOFFSETFROM:+0300
TZOFFSETTO:+0200
TZNAME:EET
DTSTART:20211031T010000
END:STANDARD
END:VTIMEZONE
BEGIN:VEVENT
DTSTART;VALUE=DATE:20210907
DTEND;VALUE=DATE:20210909
DTSTAMP:20260424T002642
CREATED:20210901T141838Z
LAST-MODIFIED:20210902T172244Z
UID:5354-1631001600-1631087999@breddeschule.de
SUMMARY:Vera Jahrgang 4 (Deutsch)
DESCRIPTION:
URL:https://breddeschule.de/veranstaltung/vera-klasse-4-deutsch/
END:VEVENT
BEGIN:VEVENT
DTSTART;VALUE=DATE:20210908
DTEND;VALUE=DATE:20210910
DTSTAMP:20260424T002642
CREATED:20210901T141906Z
LAST-MODIFIED:20210902T172251Z
UID:5356-1631088000-1631174399@breddeschule.de
SUMMARY:Vera Jahrgang 4 (Deutsch)
DESCRIPTION:
URL:https://breddeschule.de/veranstaltung/vera-klasse-4-deutsch-2/
END:VEVENT
BEGIN:VEVENT
DTSTART;VALUE=DATE:20210914
DTEND;VALUE=DATE:20210916
DTSTAMP:20260424T002642
CREATED:20210901T141932Z
LAST-MODIFIED:20210902T172300Z
UID:5358-1631606400-1631692799@breddeschule.de
SUMMARY:Vera Jahrgang 4 (Mathematik)
DESCRIPTION:
URL:https://breddeschule.de/veranstaltung/vera-klasse-4-mathematik/
END:VEVENT
BEGIN:VEVENT
DTSTART;TZID=Europe/Helsinki:20210920T170000
DTEND;TZID=Europe/Helsinki:20210920T200000
DTSTAMP:20260424T002642
CREATED:20210901T142028Z
LAST-MODIFIED:20210902T171450Z
UID:5360-1632157200-1632168000@breddeschule.de
SUMMARY:Infoveranstaltung Schulanfänger
DESCRIPTION:
URL:https://breddeschule.de/veranstaltung/infoveranstaltung-schulanfaenger/
END:VEVENT
BEGIN:VEVENT
DTSTART;TZID=Europe/Helsinki:20210921T180000
DTEND;TZID=Europe/Helsinki:20210921T210000
DTSTAMP:20260424T002642
CREATED:20210901T142051Z
LAST-MODIFIED:20210902T164058Z
UID:5362-1632247200-1632258000@breddeschule.de
SUMMARY:Schulpflegschaft
DESCRIPTION:
URL:https://breddeschule.de/veranstaltung/schulpflegschaft/
END:VEVENT
BEGIN:VEVENT
DTSTART;TZID=Europe/Helsinki:20210930T180000
DTEND;TZID=Europe/Helsinki:20210930T210000
DTSTAMP:20260424T002642
CREATED:20210901T142229Z
LAST-MODIFIED:20210902T171201Z
UID:5365-1633024800-1633035600@breddeschule.de
SUMMARY:Schulkonferenz
DESCRIPTION:
URL:https://breddeschule.de/veranstaltung/schulkonferenz-2/
END:VEVENT
END:VCALENDAR