BEGIN:VCALENDAR
VERSION:2.0
PRODID:-//Gemeinschaftsgrundschule - ECPv6.8.1//NONSGML v1.0//EN
CALSCALE:GREGORIAN
METHOD:PUBLISH
X-ORIGINAL-URL:https://breddeschule.de
X-WR-CALDESC:Veranstaltungen für Gemeinschaftsgrundschule
REFRESH-INTERVAL;VALUE=DURATION:PT1H
X-Robots-Tag:noindex
X-PUBLISHED-TTL:PT1H
BEGIN:VTIMEZONE
TZID:Europe/Helsinki
BEGIN:DAYLIGHT
TZOFFSETFROM:+0200
TZOFFSETTO:+0300
TZNAME:EEST
DTSTART:20210328T010000
END:DAYLIGHT
BEGIN:STANDARD
TZOFFSETFROM:+0300
TZOFFSETTO:+0200
TZNAME:EET
DTSTART:20211031T010000
END:STANDARD
END:VTIMEZONE
BEGIN:VEVENT
DTSTART;VALUE=DATE:20210602
DTEND;VALUE=DATE:20210604
DTSTAMP:20260424T052445
CREATED:20200902T063238Z
LAST-MODIFIED:20200902T063238Z
UID:4953-1622620800-1622707199@breddeschule.de
SUMMARY:Spiel- und Sportfest (unter Vorbehalt)
DESCRIPTION:
URL:https://breddeschule.de/veranstaltung/spiel-und-sportfest-unter-vorbehalt/
END:VEVENT
BEGIN:VEVENT
DTSTART;VALUE=DATE:20210603
DTEND;VALUE=DATE:20210605
DTSTAMP:20260424T052445
CREATED:20200902T063340Z
LAST-MODIFIED:20200902T063340Z
UID:4955-1622707200-1622793599@breddeschule.de
SUMMARY:Fronleichnam -unterrichtsfrei
DESCRIPTION:
URL:https://breddeschule.de/veranstaltung/fronleichnam-unterrichtsfrei/
END:VEVENT
BEGIN:VEVENT
DTSTART;VALUE=DATE:20210604
DTEND;VALUE=DATE:20210606
DTSTAMP:20260424T052445
CREATED:20200902T063537Z
LAST-MODIFIED:20200902T063537Z
UID:4957-1622793600-1622879999@breddeschule.de
SUMMARY:beweglicher Ferientag -unterrichtsfrei
DESCRIPTION:
URL:https://breddeschule.de/veranstaltung/beweglicher-ferientag-unterrichtsfrei-11/
END:VEVENT
BEGIN:VEVENT
DTSTART;TZID=Europe/Helsinki:20210610T080000
DTEND;TZID=Europe/Helsinki:20210610T170000
DTSTAMP:20260424T052445
CREATED:20200902T063759Z
LAST-MODIFIED:20200902T063759Z
UID:4959-1623312000-1623344400@breddeschule.de
SUMMARY:Spiel- und Sportfest (Ausweichtermin\, unter Vorbehalt)
DESCRIPTION:
URL:https://breddeschule.de/veranstaltung/spiel-und-sportfest-ausweichtermin-unter-vorbehalt/
END:VEVENT
BEGIN:VEVENT
DTSTART;TZID=Europe/Helsinki:20210615T100000
DTEND;TZID=Europe/Helsinki:20210615T113000
DTSTAMP:20260424T052445
CREATED:20200902T063953Z
LAST-MODIFIED:20200902T063953Z
UID:4961-1623751200-1623756600@breddeschule.de
SUMMARY:Patentag für die Schulanfänger 2021
DESCRIPTION:
URL:https://breddeschule.de/veranstaltung/patentag-fuer-die-schulanfaenger-2021/
END:VEVENT
BEGIN:VEVENT
DTSTART;TZID=Europe/Helsinki:20210621T080000
DTEND;TZID=Europe/Helsinki:20210625T170000
DTSTAMP:20260424T052445
CREATED:20200902T064034Z
LAST-MODIFIED:20200902T064034Z
UID:4963-1624262400-1624640400@breddeschule.de
SUMMARY:Projektwoche (unter Vorbehalt)
DESCRIPTION:
URL:https://breddeschule.de/veranstaltung/projektwoche-unter-vorbehalt/
END:VEVENT
BEGIN:VEVENT
DTSTART;TZID=Europe/Helsinki:20210625T130000
DTEND;TZID=Europe/Helsinki:20210625T170000
DTSTAMP:20260424T052446
CREATED:20200902T064128Z
LAST-MODIFIED:20200902T064128Z
UID:4965-1624626000-1624640400@breddeschule.de
SUMMARY:Schulfest (unter Vorbehalt)
DESCRIPTION:
URL:https://breddeschule.de/veranstaltung/schulfest-unter-vorbehalt/
END:VEVENT
BEGIN:VEVENT
DTSTART;TZID=Europe/Helsinki:20210628T080000
DTEND;TZID=Europe/Helsinki:20210628T170000
DTSTAMP:20260424T052446
CREATED:20200902T064212Z
LAST-MODIFIED:20200902T064212Z
UID:4967-1624867200-1624899600@breddeschule.de
SUMMARY:Zeugnisausgabe Klasse 1-3
DESCRIPTION:
URL:https://breddeschule.de/veranstaltung/zeugnisausgabe-klasse-1-3/
END:VEVENT
BEGIN:VEVENT
DTSTART;TZID=Europe/Helsinki:20210628T080000
DTEND;TZID=Europe/Helsinki:20210701T170000
DTSTAMP:20260424T052446
CREATED:20200902T064311Z
LAST-MODIFIED:20200902T064311Z
UID:4969-1624867200-1625158800@breddeschule.de
SUMMARY:Beratungsgespräche Klasse 1-3 (nach Bedarf)
DESCRIPTION:
URL:https://breddeschule.de/veranstaltung/beratungsgespraeche-klasse-1-3-nach-bedarf/
END:VEVENT
BEGIN:VEVENT
DTSTART;VALUE=DATE:20210630
DTEND;VALUE=DATE:20210702
DTSTAMP:20260424T052446
CREATED:20200902T064359Z
LAST-MODIFIED:20200902T064359Z
UID:4971-1625040000-1625126399@breddeschule.de
SUMMARY:Schulwandertag (unter Vorbehalt)
DESCRIPTION:
URL:https://breddeschule.de/veranstaltung/schulwandertag-unter-vorbehalt/
END:VEVENT
END:VCALENDAR