BEGIN:VCALENDAR
VERSION:2.0
PRODID:-//Gemeinschaftsgrundschule - ECPv6.8.1//NONSGML v1.0//EN
CALSCALE:GREGORIAN
METHOD:PUBLISH
X-WR-CALNAME:Gemeinschaftsgrundschule
X-ORIGINAL-URL:https://breddeschule.de
X-WR-CALDESC:Veranstaltungen für Gemeinschaftsgrundschule
REFRESH-INTERVAL;VALUE=DURATION:PT1H
X-Robots-Tag:noindex
X-PUBLISHED-TTL:PT1H
BEGIN:VTIMEZONE
TZID:Europe/Helsinki
BEGIN:DAYLIGHT
TZOFFSETFROM:+0200
TZOFFSETTO:+0300
TZNAME:EEST
DTSTART:20200329T010000
END:DAYLIGHT
BEGIN:STANDARD
TZOFFSETFROM:+0300
TZOFFSETTO:+0200
TZNAME:EET
DTSTART:20201025T010000
END:STANDARD
END:VTIMEZONE
BEGIN:VEVENT
DTSTART;VALUE=DATE:20200629
DTEND;VALUE=DATE:20200813
DTSTAMP:20260424T183255
CREATED:20191001T083221Z
LAST-MODIFIED:20191001T083221Z
UID:4437-1593417600-1597219199@breddeschule.de
SUMMARY:Sommerferien
DESCRIPTION:
URL:https://breddeschule.de/veranstaltung/sommerferien-8/
CATEGORIES:2019/2020
END:VEVENT
BEGIN:VEVENT
DTSTART;TZID=Europe/Helsinki:20200824T080000
DTEND;TZID=Europe/Helsinki:20200828T170000
DTSTAMP:20260424T183255
CREATED:20200819T062713Z
LAST-MODIFIED:20200819T062744Z
UID:4863-1598256000-1598634000@breddeschule.de
SUMMARY:Klassenpflegschaften
DESCRIPTION:
URL:https://breddeschule.de/veranstaltung/klassenpflegschaften/
END:VEVENT
BEGIN:VEVENT
DTSTART;TZID=Europe/Helsinki:20200825T190000
DTEND;TZID=Europe/Helsinki:20200825T200000
DTSTAMP:20260424T183255
CREATED:20200819T063203Z
LAST-MODIFIED:20200819T063203Z
UID:4865-1598382000-1598385600@breddeschule.de
SUMMARY:Informationsabend: Übergang GS-SEK 1 für die Klassen 4
DESCRIPTION:
URL:https://breddeschule.de/veranstaltung/informationsabend-uebergang-gs-sek-1-fuer-die-klassen-4/
END:VEVENT
END:VCALENDAR