BEGIN:VCALENDAR
VERSION:2.0
PRODID:-//Gemeinschaftsgrundschule - ECPv6.8.1//NONSGML v1.0//EN
CALSCALE:GREGORIAN
METHOD:PUBLISH
X-WR-CALNAME:Gemeinschaftsgrundschule
X-ORIGINAL-URL:https://breddeschule.de
X-WR-CALDESC:Veranstaltungen für Gemeinschaftsgrundschule
REFRESH-INTERVAL;VALUE=DURATION:PT1H
X-Robots-Tag:noindex
X-PUBLISHED-TTL:PT1H
BEGIN:VTIMEZONE
TZID:Europe/Helsinki
BEGIN:DAYLIGHT
TZOFFSETFROM:+0200
TZOFFSETTO:+0300
TZNAME:EEST
DTSTART:20200329T010000
END:DAYLIGHT
BEGIN:STANDARD
TZOFFSETFROM:+0300
TZOFFSETTO:+0200
TZNAME:EET
DTSTART:20201025T010000
END:STANDARD
END:VTIMEZONE
BEGIN:VEVENT
DTSTART;VALUE=DATE:20200531
DTEND;VALUE=DATE:20200604
DTSTAMP:20260424T211511
CREATED:20191001T082611Z
LAST-MODIFIED:20191001T082611Z
UID:4419-1590912000-1591171199@breddeschule.de
SUMMARY:Pfingstpause (unterrichtsfrei)
DESCRIPTION:
URL:https://breddeschule.de/veranstaltung/pfingstpause-unterrichtsfrei-2/
CATEGORIES:2019/2020
END:VEVENT
BEGIN:VEVENT
DTSTART;VALUE=DATE:20200603
DTEND;VALUE=DATE:20200607
DTSTAMP:20260424T211511
CREATED:20191218T171402Z
LAST-MODIFIED:20200424T094756Z
UID:4491-1591171200-1591430399@breddeschule.de
SUMMARY:Klassenfahrt 3a und 3b (entfällt)
DESCRIPTION:
URL:https://breddeschule.de/veranstaltung/klassenfahrt-3a-und-3b-4/
CATEGORIES:2019/2020
END:VEVENT
BEGIN:VEVENT
DTSTART;TZID=Europe/Helsinki:20200604T150000
DTEND;TZID=Europe/Helsinki:20200604T160000
DTSTAMP:20260424T211511
CREATED:20191218T171455Z
LAST-MODIFIED:20200424T094735Z
UID:4494-1591282800-1591286400@breddeschule.de
SUMMARY:2. Schnuppernachmittag für Schulanfänger 2020 (entfällt)
DESCRIPTION:
URL:https://breddeschule.de/veranstaltung/2-schnuppernachmittag-fuer-schulanfaenger-2020/
CATEGORIES:2019/2020
END:VEVENT
BEGIN:VEVENT
DTSTART;TZID=Europe/Helsinki:20200609T100000
DTEND;TZID=Europe/Helsinki:20200609T110000
DTSTAMP:20260424T211511
CREATED:20191218T171603Z
LAST-MODIFIED:20200424T094717Z
UID:4496-1591696800-1591700400@breddeschule.de
SUMMARY:Patentag für Schulanfänger 2020 (entfällt)
DESCRIPTION:
URL:https://breddeschule.de/veranstaltung/patentag-fuer-schulanfaenger-2020/
CATEGORIES:2019/2020
END:VEVENT
BEGIN:VEVENT
DTSTART;VALUE=DATE:20200610
DTEND;VALUE=DATE:20200612
DTSTAMP:20260424T211511
CREATED:20191001T082653Z
LAST-MODIFIED:20191001T082653Z
UID:4421-1591776000-1591862399@breddeschule.de
SUMMARY:Spiel-und Sportfest (Ausweichtermin)
DESCRIPTION:
URL:https://breddeschule.de/veranstaltung/spiel-und-sportfest-ausweichtermin-5/
CATEGORIES:2019/2020
END:VEVENT
BEGIN:VEVENT
DTSTART;VALUE=DATE:20200611
DTEND;VALUE=DATE:20200613
DTSTAMP:20260424T211511
CREATED:20191001T082815Z
LAST-MODIFIED:20191001T082815Z
UID:4423-1591862400-1591948799@breddeschule.de
SUMMARY:Fronleichnam (Feiertag)
DESCRIPTION:
URL:https://breddeschule.de/veranstaltung/fronleichnam-feiertag-7/
CATEGORIES:2019/2020
END:VEVENT
BEGIN:VEVENT
DTSTART;VALUE=DATE:20200612
DTEND;VALUE=DATE:20200614
DTSTAMP:20260424T211511
CREATED:20191001T082840Z
LAST-MODIFIED:20191001T082840Z
UID:4425-1591948800-1592035199@breddeschule.de
SUMMARY:beweglicher Ferientag  (unterrichtsfrei)
DESCRIPTION:
URL:https://breddeschule.de/veranstaltung/beweglicher-ferientag-unterrichtsfrei-9/
CATEGORIES:2019/2020
END:VEVENT
BEGIN:VEVENT
DTSTART;VALUE=DATE:20200622
DTEND;VALUE=DATE:20200624
DTSTAMP:20260424T211511
CREATED:20191001T082916Z
LAST-MODIFIED:20191001T082916Z
UID:4427-1592812800-1592899199@breddeschule.de
SUMMARY:Zeugnisausgabe für die Klassen 1\, 2 und 3
DESCRIPTION:
URL:https://breddeschule.de/veranstaltung/zeugnisausgabe-fuer-die-klassen-1-2-und-3-2/
CATEGORIES:2019/2020
END:VEVENT
BEGIN:VEVENT
DTSTART;VALUE=DATE:20200622
DTEND;VALUE=DATE:20200627
DTSTAMP:20260424T211511
CREATED:20191001T082946Z
LAST-MODIFIED:20191001T082946Z
UID:4429-1592812800-1593158399@breddeschule.de
SUMMARY:Beratungsgespräche nach Bedarf
DESCRIPTION:
URL:https://breddeschule.de/veranstaltung/beratungsgespraeche-nach-bedarf/
CATEGORIES:2019/2020
END:VEVENT
BEGIN:VEVENT
DTSTART;VALUE=DATE:20200624
DTEND;VALUE=DATE:20200626
DTSTAMP:20260424T211511
CREATED:20191001T083020Z
LAST-MODIFIED:20200424T094639Z
UID:4431-1592985600-1593071999@breddeschule.de
SUMMARY:Schulwandertag (entfällt)
DESCRIPTION:
URL:https://breddeschule.de/veranstaltung/schulwandertag-7/
CATEGORIES:2019/2020
END:VEVENT
BEGIN:VEVENT
DTSTART;TZID=Europe/Helsinki:20200625T081500
DTEND;TZID=Europe/Helsinki:20200625T090000
DTSTAMP:20260424T211511
CREATED:20191001T083102Z
LAST-MODIFIED:20200424T095105Z
UID:4433-1593072900-1593075600@breddeschule.de
SUMMARY:Ehrung der „Antolin“ – Kinder (8:15 Uhr) (entfällt)
DESCRIPTION:
URL:https://breddeschule.de/veranstaltung/ehrung-der-antolin-kinder-815-uhr-2/
CATEGORIES:2019/2020
END:VEVENT
BEGIN:VEVENT
DTSTART;VALUE=DATE:20200626
DTEND;VALUE=DATE:20200628
DTSTAMP:20260424T211511
CREATED:20191001T083136Z
LAST-MODIFIED:20191001T083136Z
UID:4435-1593158400-1593244799@breddeschule.de
SUMMARY:Abschiedsfeier und Zeugnisausgabe für die Klassen 4 letzter Schultag
DESCRIPTION:
URL:https://breddeschule.de/veranstaltung/abschiedsfeier-und-zeugnisausgabe-fuer-die-klassen-4-letzter-schultag-2/
CATEGORIES:2019/2020
END:VEVENT
BEGIN:VEVENT
DTSTART;VALUE=DATE:20200629
DTEND;VALUE=DATE:20200813
DTSTAMP:20260424T211511
CREATED:20191001T083221Z
LAST-MODIFIED:20191001T083221Z
UID:4437-1593417600-1597219199@breddeschule.de
SUMMARY:Sommerferien
DESCRIPTION:
URL:https://breddeschule.de/veranstaltung/sommerferien-8/
CATEGORIES:2019/2020
END:VEVENT
END:VCALENDAR