BEGIN:VCALENDAR
VERSION:2.0
PRODID:-//Gemeinschaftsgrundschule - ECPv6.8.1//NONSGML v1.0//EN
CALSCALE:GREGORIAN
METHOD:PUBLISH
X-WR-CALNAME:Gemeinschaftsgrundschule
X-ORIGINAL-URL:https://breddeschule.de
X-WR-CALDESC:Veranstaltungen für Gemeinschaftsgrundschule
REFRESH-INTERVAL;VALUE=DURATION:PT1H
X-Robots-Tag:noindex
X-PUBLISHED-TTL:PT1H
BEGIN:VTIMEZONE
TZID:Europe/Helsinki
BEGIN:DAYLIGHT
TZOFFSETFROM:+0200
TZOFFSETTO:+0300
TZNAME:EEST
DTSTART:20200329T010000
END:DAYLIGHT
BEGIN:STANDARD
TZOFFSETFROM:+0300
TZOFFSETTO:+0200
TZNAME:EET
DTSTART:20201025T010000
END:STANDARD
END:VTIMEZONE
BEGIN:VEVENT
DTSTART;VALUE=DATE:20200430
DTEND;VALUE=DATE:20200509
DTSTAMP:20260424T222505
CREATED:20191001T082134Z
LAST-MODIFIED:20200424T095028Z
UID:4405-1588233600-1588924799@breddeschule.de
SUMMARY:Vergleichsarbeiten Deutsch Klasse 3 (VERA) (entfällt)
DESCRIPTION:
URL:https://breddeschule.de/veranstaltung/vergleichsarbeiten-deutsch-und-mathematik-klasse-3-vera-3/
CATEGORIES:2019/2020
END:VEVENT
BEGIN:VEVENT
DTSTART;VALUE=DATE:20200501
DTEND;VALUE=DATE:20200503
DTSTAMP:20260424T222505
CREATED:20191001T082253Z
LAST-MODIFIED:20191001T082253Z
UID:4407-1588320000-1588406399@breddeschule.de
SUMMARY:Maifeiertag (unterrichtsfrei)
DESCRIPTION:
URL:https://breddeschule.de/veranstaltung/maifeiertag-unterrichtsfrei-2/
CATEGORIES:2019/2020
END:VEVENT
BEGIN:VEVENT
DTSTART;TZID=Europe/Helsinki:20200504T080000
DTEND;TZID=Europe/Helsinki:20200507T120000
DTSTAMP:20260424T222505
CREATED:20191218T170315Z
LAST-MODIFIED:20200424T095004Z
UID:4480-1588579200-1588852800@breddeschule.de
SUMMARY:Zahnmobil (Klassen 1-4) (entfällt)
DESCRIPTION:
URL:https://breddeschule.de/veranstaltung/zahnmobil-klassen-1-4/
END:VEVENT
BEGIN:VEVENT
DTSTART;TZID=Europe/Helsinki:20200505T080000
DTEND;TZID=Europe/Helsinki:20200505T133000
DTSTAMP:20260424T222505
CREATED:20191218T170518Z
LAST-MODIFIED:20200424T094940Z
UID:4483-1588665600-1588685400@breddeschule.de
SUMMARY:Vergleichsarbeiten Deutsch Klasse 3 (VERA) (entfällt)
DESCRIPTION:
URL:https://breddeschule.de/veranstaltung/vergleichsarbeiten-deutsch-klasse-3-vera-4/
CATEGORIES:2019/2020
END:VEVENT
BEGIN:VEVENT
DTSTART;TZID=Europe/Helsinki:20200507T080000
DTEND;TZID=Europe/Helsinki:20200507T133000
DTSTAMP:20260424T222505
CREATED:20191218T170630Z
LAST-MODIFIED:20200424T094922Z
UID:4485-1588838400-1588858200@breddeschule.de
SUMMARY:Vergleichsarbeiten Mathematik Klasse 3 (VERA) (entfällt)
DESCRIPTION:
URL:https://breddeschule.de/veranstaltung/vergleichsarbeiten-mathematik-klasse-3-vera-4/
CATEGORIES:2019/2020
END:VEVENT
BEGIN:VEVENT
DTSTART;TZID=Europe/Helsinki:20200507T190000
DTEND;TZID=Europe/Helsinki:20200507T200000
DTSTAMP:20260424T222505
CREATED:20191218T170845Z
LAST-MODIFIED:20200424T094104Z
UID:4487-1588878000-1588881600@breddeschule.de
SUMMARY:Schulanfänger Informationsabend (entfällt)
DESCRIPTION:
URL:https://breddeschule.de/veranstaltung/schulanfaenger-informationsabend/
CATEGORIES:2019/2020
END:VEVENT
BEGIN:VEVENT
DTSTART;VALUE=DATE:20200511
DTEND;VALUE=DATE:20200522
DTSTAMP:20260424T222505
CREATED:20191001T082329Z
LAST-MODIFIED:20191001T082329Z
UID:4409-1589184000-1590047999@breddeschule.de
SUMMARY:Beratungsgespräche Klassen 1 – 4 (nach Terminabsprache)
DESCRIPTION:
URL:https://breddeschule.de/veranstaltung/beratungsgespraeche-klassen-1-4-nach-terminabsprache-6/
CATEGORIES:2019/2020
END:VEVENT
BEGIN:VEVENT
DTSTART;VALUE=DATE:20200518
DTEND;VALUE=DATE:20200531
DTSTAMP:20260424T222505
CREATED:20191001T082408Z
LAST-MODIFIED:20200424T095052Z
UID:4411-1589788800-1590825599@breddeschule.de
SUMMARY:Methodentag „Kooperatives Lernen“ (entfällt)
DESCRIPTION:
URL:https://breddeschule.de/veranstaltung/methodentag-kooperatives-lernen/
CATEGORIES:2019/2020
END:VEVENT
BEGIN:VEVENT
DTSTART;VALUE=DATE:20200521
DTEND;VALUE=DATE:20200523
DTSTAMP:20260424T222505
CREATED:20191001T082441Z
LAST-MODIFIED:20191001T082441Z
UID:4413-1590048000-1590134399@breddeschule.de
SUMMARY:Himmelfahrt (Feiertag)
DESCRIPTION:
URL:https://breddeschule.de/veranstaltung/himmelfahrt-feiertag-3/
END:VEVENT
BEGIN:VEVENT
DTSTART;VALUE=DATE:20200522
DTEND;VALUE=DATE:20200524
DTSTAMP:20260424T222505
CREATED:20191001T082508Z
LAST-MODIFIED:20191001T082508Z
UID:4415-1590134400-1590220799@breddeschule.de
SUMMARY:beweglicher Ferientag  (unterrichtsfrei)
DESCRIPTION:
URL:https://breddeschule.de/veranstaltung/beweglicher-ferientag-unterrichtsfrei-8/
CATEGORIES:2019/2020
END:VEVENT
BEGIN:VEVENT
DTSTART;VALUE=DATE:20200528
DTEND;VALUE=DATE:20200530
DTSTAMP:20260424T222505
CREATED:20191001T082535Z
LAST-MODIFIED:20200424T094833Z
UID:4417-1590652800-1590739199@breddeschule.de
SUMMARY:Spiel- und Sportfest Sportplatz an der Jahnstraße (entfällt)
DESCRIPTION:
URL:https://breddeschule.de/veranstaltung/spiel-und-sportfest-sportplatz-an-der-jahnstrasse-2/
CATEGORIES:2019/2020
END:VEVENT
BEGIN:VEVENT
DTSTART;TZID=Europe/Helsinki:20200528T150000
DTEND;TZID=Europe/Helsinki:20200528T160000
DTSTAMP:20260424T222505
CREATED:20191218T171255Z
LAST-MODIFIED:20200424T094816Z
UID:4489-1590678000-1590681600@breddeschule.de
SUMMARY:1. Schnuppernachmittag für Schulanfänger 2020 (entfällt)
DESCRIPTION:
URL:https://breddeschule.de/veranstaltung/1-schnuppernachmittag-fuer-schulanfaenger-2020/
CATEGORIES:2019/2020
END:VEVENT
BEGIN:VEVENT
DTSTART;VALUE=DATE:20200531
DTEND;VALUE=DATE:20200604
DTSTAMP:20260424T222505
CREATED:20191001T082611Z
LAST-MODIFIED:20191001T082611Z
UID:4419-1590912000-1591171199@breddeschule.de
SUMMARY:Pfingstpause (unterrichtsfrei)
DESCRIPTION:
URL:https://breddeschule.de/veranstaltung/pfingstpause-unterrichtsfrei-2/
CATEGORIES:2019/2020
END:VEVENT
END:VCALENDAR