BEGIN:VCALENDAR
VERSION:2.0
PRODID:-//Gemeinschaftsgrundschule - ECPv6.8.1//NONSGML v1.0//EN
CALSCALE:GREGORIAN
METHOD:PUBLISH
X-WR-CALNAME:Gemeinschaftsgrundschule
X-ORIGINAL-URL:https://breddeschule.de
X-WR-CALDESC:Veranstaltungen für Gemeinschaftsgrundschule
REFRESH-INTERVAL;VALUE=DURATION:PT1H
X-Robots-Tag:noindex
X-PUBLISHED-TTL:PT1H
BEGIN:VTIMEZONE
TZID:Europe/Helsinki
BEGIN:DAYLIGHT
TZOFFSETFROM:+0200
TZOFFSETTO:+0300
TZNAME:EEST
DTSTART:20200329T010000
END:DAYLIGHT
BEGIN:STANDARD
TZOFFSETFROM:+0300
TZOFFSETTO:+0200
TZNAME:EET
DTSTART:20201025T010000
END:STANDARD
END:VTIMEZONE
BEGIN:VEVENT
DTSTART;VALUE=DATE:20200402
DTEND;VALUE=DATE:20200404
DTSTAMP:20260424T234832
CREATED:20191001T081929Z
LAST-MODIFIED:20200310T175936Z
UID:4399-1585814400-1585900799@breddeschule.de
SUMMARY:JeKits-Konzert (fällt aus)
DESCRIPTION:
URL:https://breddeschule.de/veranstaltung/jekits-konzert-voraussichtlich-2/
CATEGORIES:2019/2020
END:VEVENT
BEGIN:VEVENT
DTSTART;VALUE=DATE:20200406
DTEND;VALUE=DATE:20200420
DTSTAMP:20260424T234832
CREATED:20191001T082017Z
LAST-MODIFIED:20191001T082017Z
UID:4401-1586160000-1587283199@breddeschule.de
SUMMARY:Osterferien
DESCRIPTION:
URL:https://breddeschule.de/veranstaltung/osterferien-7/
CATEGORIES:2019/2020
END:VEVENT
BEGIN:VEVENT
DTSTART;VALUE=DATE:20200420
DTEND;VALUE=DATE:20200422
DTSTAMP:20260424T234832
CREATED:20191001T082053Z
LAST-MODIFIED:20191001T082053Z
UID:4403-1587369600-1587455999@breddeschule.de
SUMMARY:Schulbeginn nach den Osterferien (nach Plan)
DESCRIPTION:
URL:https://breddeschule.de/veranstaltung/schulbeginn-nach-den-osterferien-nach-plan-4/
CATEGORIES:2019/2020
END:VEVENT
BEGIN:VEVENT
DTSTART;VALUE=DATE:20200428
DTEND;VALUE=DATE:20200430
DTSTAMP:20260424T234832
CREATED:20191218T170145Z
LAST-MODIFIED:20191218T170145Z
UID:4478-1588060800-1588147199@breddeschule.de
SUMMARY:Pädagogische Ganztagskonferenz (schulfrei)
DESCRIPTION:
URL:https://breddeschule.de/veranstaltung/paedagogische-ganztagskonferenz-schulfrei/
END:VEVENT
BEGIN:VEVENT
DTSTART;VALUE=DATE:20200430
DTEND;VALUE=DATE:20200509
DTSTAMP:20260424T234832
CREATED:20191001T082134Z
LAST-MODIFIED:20200424T095028Z
UID:4405-1588233600-1588924799@breddeschule.de
SUMMARY:Vergleichsarbeiten Deutsch Klasse 3 (VERA) (entfällt)
DESCRIPTION:
URL:https://breddeschule.de/veranstaltung/vergleichsarbeiten-deutsch-und-mathematik-klasse-3-vera-3/
CATEGORIES:2019/2020
END:VEVENT
END:VCALENDAR