BEGIN:VCALENDAR
VERSION:2.0
PRODID:-//Gemeinschaftsgrundschule - ECPv6.8.1//NONSGML v1.0//EN
CALSCALE:GREGORIAN
METHOD:PUBLISH
X-ORIGINAL-URL:https://breddeschule.de
X-WR-CALDESC:Veranstaltungen für Gemeinschaftsgrundschule
REFRESH-INTERVAL;VALUE=DURATION:PT1H
X-Robots-Tag:noindex
X-PUBLISHED-TTL:PT1H
BEGIN:VTIMEZONE
TZID:Europe/Helsinki
BEGIN:DAYLIGHT
TZOFFSETFROM:+0200
TZOFFSETTO:+0300
TZNAME:EEST
DTSTART:20200329T010000
END:DAYLIGHT
BEGIN:STANDARD
TZOFFSETFROM:+0300
TZOFFSETTO:+0200
TZNAME:EET
DTSTART:20201025T010000
END:STANDARD
END:VTIMEZONE
BEGIN:VEVENT
DTSTART;VALUE=DATE:20200226
DTEND;VALUE=DATE:20200308
DTSTAMP:20260425T011721
CREATED:20191001T081247Z
LAST-MODIFIED:20191001T081247Z
UID:4391-1582704000-1583567999@breddeschule.de
SUMMARY:Methodentag „Kommunikation“
DESCRIPTION:
URL:https://breddeschule.de/veranstaltung/methodentag-kommunikation/
CATEGORIES:2019/2020
END:VEVENT
BEGIN:VEVENT
DTSTART;TZID=Europe/Helsinki:20200305T081000
DTEND;TZID=Europe/Helsinki:20200305T090000
DTSTAMP:20260425T011721
CREATED:20191001T081339Z
LAST-MODIFIED:20200424T094154Z
UID:4393-1583395800-1583398800@breddeschule.de
SUMMARY:Vorlesestunde (8.10 Uhr - 9.00 Uhr) (entfällt)
DESCRIPTION:
URL:https://breddeschule.de/veranstaltung/vorlesestunde-8-10-uhr-9-00-uhr-4/
CATEGORIES:2019/2020
END:VEVENT
BEGIN:VEVENT
DTSTART;TZID=Europe/Helsinki:20200313T081500
DTEND;TZID=Europe/Helsinki:20200313T094500
DTSTAMP:20260425T011721
CREATED:20191001T081427Z
LAST-MODIFIED:20200310T175703Z
UID:4395-1584087300-1584092700@breddeschule.de
SUMMARY:Kinderflohmarkt (fällt aus)
DESCRIPTION:
URL:https://breddeschule.de/veranstaltung/kinderflohmarkt-8-15-uhr-9-45-uhr-4/
CATEGORIES:2019/2020
END:VEVENT
BEGIN:VEVENT
DTSTART;VALUE=DATE:20200323
DTEND;VALUE=DATE:20200329
DTSTAMP:20260425T011721
CREATED:20191001T081848Z
LAST-MODIFIED:20200310T175854Z
UID:4397-1584950400-1585382399@breddeschule.de
SUMMARY:Projektwoche
DESCRIPTION:
URL:https://breddeschule.de/veranstaltung/projektwoche-schulfest/
CATEGORIES:2019/2020
END:VEVENT
BEGIN:VEVENT
DTSTART;TZID=Europe/Helsinki:20200327T140000
DTEND;TZID=Europe/Helsinki:20200327T170000
DTSTAMP:20260425T011721
CREATED:20191218T165929Z
LAST-MODIFIED:20200310T175757Z
UID:4474-1585317600-1585328400@breddeschule.de
SUMMARY:Schulfest (fällt aus)
DESCRIPTION:
URL:https://breddeschule.de/veranstaltung/schulfest-3/
END:VEVENT
END:VCALENDAR