BEGIN:VCALENDAR
VERSION:2.0
PRODID:-//Gemeinschaftsgrundschule - ECPv6.8.1//NONSGML v1.0//EN
CALSCALE:GREGORIAN
METHOD:PUBLISH
X-WR-CALNAME:Gemeinschaftsgrundschule
X-ORIGINAL-URL:https://breddeschule.de
X-WR-CALDESC:Veranstaltungen für Gemeinschaftsgrundschule
REFRESH-INTERVAL;VALUE=DURATION:PT1H
X-Robots-Tag:noindex
X-PUBLISHED-TTL:PT1H
BEGIN:VTIMEZONE
TZID:Europe/Helsinki
BEGIN:DAYLIGHT
TZOFFSETFROM:+0200
TZOFFSETTO:+0300
TZNAME:EEST
DTSTART:20200329T010000
END:DAYLIGHT
BEGIN:STANDARD
TZOFFSETFROM:+0300
TZOFFSETTO:+0200
TZNAME:EET
DTSTART:20201025T010000
END:STANDARD
END:VTIMEZONE
BEGIN:VEVENT
DTSTART;VALUE=DATE:20200203
DTEND;VALUE=DATE:20200209
DTSTAMP:20260425T022634
CREATED:20191001T080912Z
LAST-MODIFIED:20191001T080912Z
UID:4381-1580716800-1581148799@breddeschule.de
SUMMARY:Beratungsgespräche  Klasse 4 (nach Terminabsprache)
DESCRIPTION:
URL:https://breddeschule.de/veranstaltung/beratungsgespraeche-klasse-4-nach-terminabsprache-5/
CATEGORIES:2019/2020
END:VEVENT
BEGIN:VEVENT
DTSTART;VALUE=DATE:20200210
DTEND;VALUE=DATE:20200216
DTSTAMP:20260425T022634
CREATED:20191001T081012Z
LAST-MODIFIED:20191001T081012Z
UID:4383-1581321600-1581753599@breddeschule.de
SUMMARY:Klassenpflegschaftssitzungen
DESCRIPTION:
URL:https://breddeschule.de/veranstaltung/klassenpflegschaftssitzungen-7/
CATEGORIES:2019/2020
END:VEVENT
BEGIN:VEVENT
DTSTART;VALUE=DATE:20200221
DTEND;VALUE=DATE:20200223
DTSTAMP:20260425T022634
CREATED:20191001T081050Z
LAST-MODIFIED:20191001T081050Z
UID:4385-1582272000-1582358399@breddeschule.de
SUMMARY:Karneval in der Schule
DESCRIPTION:
URL:https://breddeschule.de/veranstaltung/karneval-in-der-schule-6/
CATEGORIES:2019/2020
END:VEVENT
BEGIN:VEVENT
DTSTART;VALUE=DATE:20200224
DTEND;VALUE=DATE:20200226
DTSTAMP:20260425T022634
CREATED:20191001T081122Z
LAST-MODIFIED:20191001T081128Z
UID:4387-1582531200-1582617599@breddeschule.de
SUMMARY:Rosenmontag (beweglicher Ferientag) unterrichtsfrei
DESCRIPTION:
URL:https://breddeschule.de/veranstaltung/rosenmontag-beweglicher-ferientag-unterrichtsfrei-4/
CATEGORIES:2019/2020
END:VEVENT
BEGIN:VEVENT
DTSTART;VALUE=DATE:20200225
DTEND;VALUE=DATE:20200227
DTSTAMP:20260425T022634
CREATED:20191001T081201Z
LAST-MODIFIED:20191001T081201Z
UID:4389-1582617600-1582703999@breddeschule.de
SUMMARY:Fastnacht (beweglicher Ferientag) unterrichtsfr
DESCRIPTION:
URL:https://breddeschule.de/veranstaltung/fastnacht-beweglicher-ferientag-unterrichtsfr/
CATEGORIES:2019/2020
END:VEVENT
BEGIN:VEVENT
DTSTART;VALUE=DATE:20200226
DTEND;VALUE=DATE:20200308
DTSTAMP:20260425T022634
CREATED:20191001T081247Z
LAST-MODIFIED:20191001T081247Z
UID:4391-1582704000-1583567999@breddeschule.de
SUMMARY:Methodentag „Kommunikation“
DESCRIPTION:
URL:https://breddeschule.de/veranstaltung/methodentag-kommunikation/
CATEGORIES:2019/2020
END:VEVENT
END:VCALENDAR