BEGIN:VCALENDAR
VERSION:2.0
PRODID:-//Gemeinschaftsgrundschule - ECPv6.8.1//NONSGML v1.0//EN
CALSCALE:GREGORIAN
METHOD:PUBLISH
X-ORIGINAL-URL:https://breddeschule.de
X-WR-CALDESC:Veranstaltungen für Gemeinschaftsgrundschule
REFRESH-INTERVAL;VALUE=DURATION:PT1H
X-Robots-Tag:noindex
X-PUBLISHED-TTL:PT1H
BEGIN:VTIMEZONE
TZID:Europe/Helsinki
BEGIN:DAYLIGHT
TZOFFSETFROM:+0200
TZOFFSETTO:+0300
TZNAME:EEST
DTSTART:20190331T010000
END:DAYLIGHT
BEGIN:STANDARD
TZOFFSETFROM:+0300
TZOFFSETTO:+0200
TZNAME:EET
DTSTART:20191027T010000
END:STANDARD
BEGIN:DAYLIGHT
TZOFFSETFROM:+0200
TZOFFSETTO:+0300
TZNAME:EEST
DTSTART:20200329T010000
END:DAYLIGHT
BEGIN:STANDARD
TZOFFSETFROM:+0300
TZOFFSETTO:+0200
TZNAME:EET
DTSTART:20201025T010000
END:STANDARD
END:VTIMEZONE
BEGIN:VEVENT
DTSTART;VALUE=DATE:20191223
DTEND;VALUE=DATE:20200108
DTSTAMP:20260425T034904
CREATED:20191001T073206Z
LAST-MODIFIED:20191001T073206Z
UID:4375-1577088000-1578383999@breddeschule.de
SUMMARY:Weihnachtsferien
DESCRIPTION:
URL:https://breddeschule.de/veranstaltung/weihnachtsferien-7/
CATEGORIES:2019/2020
END:VEVENT
BEGIN:VEVENT
DTSTART;VALUE=DATE:20200107
DTEND;VALUE=DATE:20200109
DTSTAMP:20260425T034904
CREATED:20191001T073250Z
LAST-MODIFIED:20191001T073250Z
UID:4377-1578384000-1578470399@breddeschule.de
SUMMARY:Schulbeginn nach den Weihnachtsferien (nach Plan)
DESCRIPTION:
URL:https://breddeschule.de/veranstaltung/schulbeginn-nach-den-weihnachtsferien-nach-plan-5/
CATEGORIES:2019/2020
END:VEVENT
BEGIN:VEVENT
DTSTART;VALUE=DATE:20200123
DTEND;VALUE=DATE:20200125
DTSTAMP:20260425T034904
CREATED:20200111T164517Z
LAST-MODIFIED:20200111T164517Z
UID:4516-1579766400-1579852799@breddeschule.de
SUMMARY:Ganztagsfortbildung (schulfrei)
DESCRIPTION:
URL:https://breddeschule.de/veranstaltung/ganztagsfortbildung-schulfrei/
CATEGORIES:2019/2020
END:VEVENT
BEGIN:VEVENT
DTSTART;VALUE=DATE:20200131
DTEND;VALUE=DATE:20200202
DTSTAMP:20260425T034904
CREATED:20191001T073338Z
LAST-MODIFIED:20191001T073338Z
UID:4379-1580457600-1580543999@breddeschule.de
SUMMARY:Halbjahreszeugnisse Klassen 3 und 4
DESCRIPTION:
URL:https://breddeschule.de/veranstaltung/halbjahreszeugnisse-klassen-3-und-4/
CATEGORIES:2019/2020
END:VEVENT
END:VCALENDAR