BEGIN:VCALENDAR
VERSION:2.0
PRODID:-//Gemeinschaftsgrundschule - ECPv6.8.1//NONSGML v1.0//EN
CALSCALE:GREGORIAN
METHOD:PUBLISH
X-WR-CALNAME:Gemeinschaftsgrundschule
X-ORIGINAL-URL:https://breddeschule.de
X-WR-CALDESC:Veranstaltungen für Gemeinschaftsgrundschule
REFRESH-INTERVAL;VALUE=DURATION:PT1H
X-Robots-Tag:noindex
X-PUBLISHED-TTL:PT1H
BEGIN:VTIMEZONE
TZID:Europe/Helsinki
BEGIN:DAYLIGHT
TZOFFSETFROM:+0200
TZOFFSETTO:+0300
TZNAME:EEST
DTSTART:20190331T010000
END:DAYLIGHT
BEGIN:STANDARD
TZOFFSETFROM:+0300
TZOFFSETTO:+0200
TZNAME:EET
DTSTART:20191027T010000
END:STANDARD
BEGIN:DAYLIGHT
TZOFFSETFROM:+0200
TZOFFSETTO:+0300
TZNAME:EEST
DTSTART:20200329T010000
END:DAYLIGHT
BEGIN:STANDARD
TZOFFSETFROM:+0300
TZOFFSETTO:+0200
TZNAME:EET
DTSTART:20201025T010000
END:STANDARD
END:VTIMEZONE
BEGIN:VEVENT
DTSTART;VALUE=DATE:20191202
DTEND;VALUE=DATE:20191215
DTSTAMP:20260425T051206
CREATED:20191001T072706Z
LAST-MODIFIED:20191001T072706Z
UID:4363-1575273600-1576310399@breddeschule.de
SUMMARY:Methodentag „handwerkliche Grundfertigkeiten
DESCRIPTION:
URL:https://breddeschule.de/veranstaltung/methodentag-handwerkliche-grundfertigkeiten/
CATEGORIES:2019/2020
END:VEVENT
BEGIN:VEVENT
DTSTART;TZID=Europe/Helsinki:20191202T081500
DTEND;TZID=Europe/Helsinki:20191202T083000
DTSTAMP:20260425T051206
CREATED:20191001T072756Z
LAST-MODIFIED:20191001T072756Z
UID:4365-1575274500-1575275400@breddeschule.de
SUMMARY:Adventssingen auf dem Schulhof  (8.15 Uhr)
DESCRIPTION:
URL:https://breddeschule.de/veranstaltung/adventssingen-auf-dem-schulhof-8-15-uhr-9/
CATEGORIES:2019/2020
END:VEVENT
BEGIN:VEVENT
DTSTART;TZID=Europe/Helsinki:20191209T081500
DTEND;TZID=Europe/Helsinki:20191209T083000
DTSTAMP:20260425T051206
CREATED:20191001T072830Z
LAST-MODIFIED:20191001T072830Z
UID:4367-1575879300-1575880200@breddeschule.de
SUMMARY:Adventssingen auf dem Schulhof  (8.15 Uhr)
DESCRIPTION:
URL:https://breddeschule.de/veranstaltung/adventssingen-auf-dem-schulhof-8-15-uhr-10/
CATEGORIES:2019/2020
END:VEVENT
BEGIN:VEVENT
DTSTART;VALUE=DATE:20191210
DTEND;VALUE=DATE:20191212
DTSTAMP:20260425T051206
CREATED:20191203T205101Z
LAST-MODIFIED:20191203T205101Z
UID:4462-1575964800-1576051199@breddeschule.de
SUMMARY:Theaterbesuch
DESCRIPTION:
URL:https://breddeschule.de/veranstaltung/theaterbesuch/
END:VEVENT
BEGIN:VEVENT
DTSTART;TZID=Europe/Helsinki:20191213T160000
DTEND;TZID=Europe/Helsinki:20191213T170000
DTSTAMP:20260425T051206
CREATED:20191001T073046Z
LAST-MODIFIED:20191213T141758Z
UID:4371-1576252800-1576256400@breddeschule.de
SUMMARY:Adventskonzert auf dem Rathausplatz (16.00 Uhr)
DESCRIPTION:
URL:https://breddeschule.de/veranstaltung/adventskonzert-auf-dem-rathausplatz-17-00-uhr-5/
CATEGORIES:2019/2020
END:VEVENT
BEGIN:VEVENT
DTSTART;TZID=Europe/Helsinki:20191216T081500
DTEND;TZID=Europe/Helsinki:20191216T083000
DTSTAMP:20260425T051206
CREATED:20191001T072912Z
LAST-MODIFIED:20191001T072912Z
UID:4369-1576484100-1576485000@breddeschule.de
SUMMARY:Adventssingen auf dem Schulhof  (8.15 Uhr)
DESCRIPTION:
URL:https://breddeschule.de/veranstaltung/adventssingen-auf-dem-schulhof-8-15-uhr-11/
CATEGORIES:2019/2020
END:VEVENT
BEGIN:VEVENT
DTSTART;TZID=Europe/Helsinki:20191219T081500
DTEND;TZID=Europe/Helsinki:20191219T090000
DTSTAMP:20260425T051206
CREATED:20191001T073128Z
LAST-MODIFIED:20191001T073128Z
UID:4373-1576743300-1576746000@breddeschule.de
SUMMARY:Ehrung der „Antolin“ – Kinder (8:15 Uhr)
DESCRIPTION:
URL:https://breddeschule.de/veranstaltung/ehrung-der-antolin-kinder-815-uhr/
CATEGORIES:2019/2020
END:VEVENT
BEGIN:VEVENT
DTSTART;VALUE=DATE:20191223
DTEND;VALUE=DATE:20200108
DTSTAMP:20260425T051206
CREATED:20191001T073206Z
LAST-MODIFIED:20191001T073206Z
UID:4375-1577088000-1578383999@breddeschule.de
SUMMARY:Weihnachtsferien
DESCRIPTION:
URL:https://breddeschule.de/veranstaltung/weihnachtsferien-7/
CATEGORIES:2019/2020
END:VEVENT
END:VCALENDAR