BEGIN:VCALENDAR
VERSION:2.0
PRODID:-//Gemeinschaftsgrundschule - ECPv6.8.1//NONSGML v1.0//EN
CALSCALE:GREGORIAN
METHOD:PUBLISH
X-ORIGINAL-URL:https://breddeschule.de
X-WR-CALDESC:Veranstaltungen für Gemeinschaftsgrundschule
REFRESH-INTERVAL;VALUE=DURATION:PT1H
X-Robots-Tag:noindex
X-PUBLISHED-TTL:PT1H
BEGIN:VTIMEZONE
TZID:Europe/Helsinki
BEGIN:DAYLIGHT
TZOFFSETFROM:+0200
TZOFFSETTO:+0300
TZNAME:EEST
DTSTART:20190331T010000
END:DAYLIGHT
BEGIN:STANDARD
TZOFFSETFROM:+0300
TZOFFSETTO:+0200
TZNAME:EET
DTSTART:20191027T010000
END:STANDARD
END:VTIMEZONE
BEGIN:VEVENT
DTSTART;TZID=Europe/Helsinki:20191107T173000
DTEND;TZID=Europe/Helsinki:20191107T190000
DTSTAMP:20260425T062529
CREATED:20191001T072319Z
LAST-MODIFIED:20191001T072319Z
UID:4357-1573147800-1573153200@breddeschule.de
SUMMARY:St. Martinszug (Beginn 17.30 Uhr)
DESCRIPTION:
URL:https://breddeschule.de/veranstaltung/st-martinszug-beginn-17-30-uhr/
CATEGORIES:2019/2020
END:VEVENT
BEGIN:VEVENT
DTSTART;VALUE=DATE:20191111
DTEND;VALUE=DATE:20191124
DTSTAMP:20260425T062529
CREATED:20191001T072453Z
LAST-MODIFIED:20191001T072453Z
UID:4359-1573459200-1574495999@breddeschule.de
SUMMARY:Beratungsgespräche Klassen 1 – 4 (nach Terminabsprache)
DESCRIPTION:
URL:https://breddeschule.de/veranstaltung/beratungsgespraeche-klassen-1-4-nach-terminabsprache-5/
CATEGORIES:2019/2020
END:VEVENT
BEGIN:VEVENT
DTSTART;TZID=Europe/Helsinki:20191129T081000
DTEND;TZID=Europe/Helsinki:20191129T105500
DTSTAMP:20260425T062529
CREATED:20191001T072613Z
LAST-MODIFIED:20191001T072613Z
UID:4361-1575015000-1575024900@breddeschule.de
SUMMARY:Adventsbasteln (8:10 Uhr – 10:55 Uhr)
DESCRIPTION:
URL:https://breddeschule.de/veranstaltung/adventsbasteln-810-uhr-1055-uhr-5/
CATEGORIES:2019/2020
END:VEVENT
END:VCALENDAR