BEGIN:VCALENDAR
VERSION:2.0
PRODID:-//Gemeinschaftsgrundschule - ECPv6.8.1//NONSGML v1.0//EN
CALSCALE:GREGORIAN
METHOD:PUBLISH
X-ORIGINAL-URL:https://breddeschule.de
X-WR-CALDESC:Veranstaltungen für Gemeinschaftsgrundschule
REFRESH-INTERVAL;VALUE=DURATION:PT1H
X-Robots-Tag:noindex
X-PUBLISHED-TTL:PT1H
BEGIN:VTIMEZONE
TZID:Europe/Helsinki
BEGIN:DAYLIGHT
TZOFFSETFROM:+0200
TZOFFSETTO:+0300
TZNAME:EEST
DTSTART:20190331T010000
END:DAYLIGHT
BEGIN:STANDARD
TZOFFSETFROM:+0300
TZOFFSETTO:+0200
TZNAME:EET
DTSTART:20191027T010000
END:STANDARD
END:VTIMEZONE
BEGIN:VEVENT
DTSTART;VALUE=DATE:20190604
DTEND;VALUE=DATE:20190606
DTSTAMP:20260425T142315
CREATED:20190529T081414Z
LAST-MODIFIED:20190529T081414Z
UID:4290-1559635200-1559721599@breddeschule.de
SUMMARY:Pädagogischer Tag (unterrichtsfrei)
DESCRIPTION:
URL:https://breddeschule.de/veranstaltung/paedagogischer-tag-unterrichtsfrei/
END:VEVENT
BEGIN:VEVENT
DTSTART;VALUE=DATE:20190606
DTEND;VALUE=DATE:20190608
DTSTAMP:20260425T142315
CREATED:20180914T092147Z
LAST-MODIFIED:20180914T092147Z
UID:4063-1559808000-1559894399@breddeschule.de
SUMMARY:Spiel-und Sportfest (Ausweichtermin) Sportplatz an der Jahnstraße
DESCRIPTION:
URL:https://breddeschule.de/veranstaltung/spiel-und-sportfest-ausweichtermin-sportplatz-an-der-jahnstrasse/
CATEGORIES:2018/2019
END:VEVENT
BEGIN:VEVENT
DTSTART;VALUE=DATE:20190609
DTEND;VALUE=DATE:20190613
DTSTAMP:20260425T142315
CREATED:20180914T092235Z
LAST-MODIFIED:20180914T092235Z
UID:4065-1560067200-1560326399@breddeschule.de
SUMMARY:Pfingstpause (unterrichtsfrei)
DESCRIPTION:
URL:https://breddeschule.de/veranstaltung/pfingstpause-unterrichtsfrei/
CATEGORIES:2018/2019
END:VEVENT
BEGIN:VEVENT
DTSTART;VALUE=DATE:20190620
DTEND;VALUE=DATE:20190622
DTSTAMP:20260425T142315
CREATED:20180914T092308Z
LAST-MODIFIED:20180914T092308Z
UID:4067-1561017600-1561103999@breddeschule.de
SUMMARY:Fronleichnam (Feiertag)
DESCRIPTION:
URL:https://breddeschule.de/veranstaltung/fronleichnam-feiertag-6/
CATEGORIES:2018/2019
END:VEVENT
BEGIN:VEVENT
DTSTART;VALUE=DATE:20190621
DTEND;VALUE=DATE:20190623
DTSTAMP:20260425T142315
CREATED:20180914T092337Z
LAST-MODIFIED:20180914T092337Z
UID:4069-1561104000-1561190399@breddeschule.de
SUMMARY:beweglicher Ferientag (unterrichtsfrei)
DESCRIPTION:
URL:https://breddeschule.de/veranstaltung/beweglicher-ferientag-unterrichtsfrei-7/
CATEGORIES:2018/2019
END:VEVENT
END:VCALENDAR