BEGIN:VCALENDAR
VERSION:2.0
PRODID:-//Gemeinschaftsgrundschule - ECPv6.8.1//NONSGML v1.0//EN
CALSCALE:GREGORIAN
METHOD:PUBLISH
X-WR-CALNAME:Gemeinschaftsgrundschule
X-ORIGINAL-URL:https://breddeschule.de
X-WR-CALDESC:Veranstaltungen für Gemeinschaftsgrundschule
REFRESH-INTERVAL;VALUE=DURATION:PT1H
X-Robots-Tag:noindex
X-PUBLISHED-TTL:PT1H
BEGIN:VTIMEZONE
TZID:Europe/Helsinki
BEGIN:DAYLIGHT
TZOFFSETFROM:+0200
TZOFFSETTO:+0300
TZNAME:EEST
DTSTART:20190331T010000
END:DAYLIGHT
BEGIN:STANDARD
TZOFFSETFROM:+0300
TZOFFSETTO:+0200
TZNAME:EET
DTSTART:20191027T010000
END:STANDARD
END:VTIMEZONE
BEGIN:VEVENT
DTSTART;TZID=Europe/Helsinki:20190501T080000
DTEND;TZID=Europe/Helsinki:20190501T170000
DTSTAMP:20260425T153802
CREATED:20180914T091738Z
LAST-MODIFIED:20180914T091738Z
UID:4051-1556697600-1556730000@breddeschule.de
SUMMARY:Maifeiertag (unterrichtsfrei)
DESCRIPTION:
URL:https://breddeschule.de/veranstaltung/maifeiertag-unterrichtsfrei/
CATEGORIES:2018/2019
END:VEVENT
BEGIN:VEVENT
DTSTART;VALUE=DATE:20190506
DTEND;VALUE=DATE:20190512
DTSTAMP:20260425T153802
CREATED:20180914T091818Z
LAST-MODIFIED:20180914T091818Z
UID:4053-1557129600-1557561599@breddeschule.de
SUMMARY:Beratungsgespräche Klassen 1 – 4 (nach Terminabsprache)
DESCRIPTION:
URL:https://breddeschule.de/veranstaltung/beratungsgespraeche-klassen-1-4-nach-terminabsprache-4/
CATEGORIES:2018/2019
END:VEVENT
BEGIN:VEVENT
DTSTART;VALUE=DATE:20190509
DTEND;VALUE=DATE:20190518
DTSTAMP:20260425T153802
CREATED:20180914T091858Z
LAST-MODIFIED:20180914T091858Z
UID:4055-1557388800-1558079999@breddeschule.de
SUMMARY:Vergleichsarbeiten Deutsch und Mathematik Klasse 3 (VERA)
DESCRIPTION:
URL:https://breddeschule.de/veranstaltung/vergleichsarbeiten-deutsch-und-mathematik-klasse-3-vera-2/
CATEGORIES:2018/2019
END:VEVENT
BEGIN:VEVENT
DTSTART;TZID=Europe/Helsinki:20190529T081000
DTEND;TZID=Europe/Helsinki:20190529T114500
DTSTAMP:20260425T153802
CREATED:20180914T091945Z
LAST-MODIFIED:20180914T091945Z
UID:4057-1559117400-1559130300@breddeschule.de
SUMMARY:Spiel- und Sportfest\, Sportplatz an der Jahnstraße
DESCRIPTION:
URL:https://breddeschule.de/veranstaltung/spiel-und-sportfest-sportplatz-an-der-jahnstrasse/
CATEGORIES:2018/2019
END:VEVENT
BEGIN:VEVENT
DTSTART;VALUE=DATE:20190530
DTEND;VALUE=DATE:20190601
DTSTAMP:20260425T153802
CREATED:20180914T092028Z
LAST-MODIFIED:20180914T092028Z
UID:4059-1559203200-1559289599@breddeschule.de
SUMMARY:Himmelfahrt (Feiertag)
DESCRIPTION:
URL:https://breddeschule.de/veranstaltung/himmelfahrt-feiertag-2/
CATEGORIES:2018/2019
END:VEVENT
BEGIN:VEVENT
DTSTART;VALUE=DATE:20190531
DTEND;VALUE=DATE:20190602
DTSTAMP:20260425T153802
CREATED:20180914T092107Z
LAST-MODIFIED:20180914T092107Z
UID:4061-1559289600-1559375999@breddeschule.de
SUMMARY:beweglicher Ferientag (unterrichtsfrei)
DESCRIPTION:
URL:https://breddeschule.de/veranstaltung/beweglicher-ferientag-unterrichtsfrei-6/
CATEGORIES:2018/2019
END:VEVENT
END:VCALENDAR