BEGIN:VCALENDAR
VERSION:2.0
PRODID:-//Gemeinschaftsgrundschule - ECPv6.8.1//NONSGML v1.0//EN
CALSCALE:GREGORIAN
METHOD:PUBLISH
X-WR-CALNAME:Gemeinschaftsgrundschule
X-ORIGINAL-URL:https://breddeschule.de
X-WR-CALDESC:Veranstaltungen für Gemeinschaftsgrundschule
REFRESH-INTERVAL;VALUE=DURATION:PT1H
X-Robots-Tag:noindex
X-PUBLISHED-TTL:PT1H
BEGIN:VTIMEZONE
TZID:Europe/Helsinki
BEGIN:DAYLIGHT
TZOFFSETFROM:+0200
TZOFFSETTO:+0300
TZNAME:EEST
DTSTART:20190331T010000
END:DAYLIGHT
BEGIN:STANDARD
TZOFFSETFROM:+0300
TZOFFSETTO:+0200
TZNAME:EET
DTSTART:20191027T010000
END:STANDARD
END:VTIMEZONE
BEGIN:VEVENT
DTSTART;VALUE=DATE:20190301
DTEND;VALUE=DATE:20190303
DTSTAMP:20260425T183851
CREATED:20180914T091005Z
LAST-MODIFIED:20180914T091014Z
UID:4029-1551427200-1551513599@breddeschule.de
SUMMARY:Karneval in der Schule
DESCRIPTION:
URL:https://breddeschule.de/veranstaltung/karneval-in-der-schule-5/
CATEGORIES:2018/2019
END:VEVENT
BEGIN:VEVENT
DTSTART;VALUE=DATE:20190304
DTEND;VALUE=DATE:20190306
DTSTAMP:20260425T183851
CREATED:20180914T091055Z
LAST-MODIFIED:20180914T091055Z
UID:4031-1551686400-1551772799@breddeschule.de
SUMMARY:Rosenmontag (beweglicher Ferientag) unterrichtsfrei
DESCRIPTION:
URL:https://breddeschule.de/veranstaltung/rosenmontag-beweglicher-ferientag-unterrichtsfrei-3/
CATEGORIES:2018/2019
END:VEVENT
BEGIN:VEVENT
DTSTART;VALUE=DATE:20190305
DTEND;VALUE=DATE:20190307
DTSTAMP:20260425T183851
CREATED:20180914T091130Z
LAST-MODIFIED:20180914T091130Z
UID:4033-1551772800-1551859199@breddeschule.de
SUMMARY:Fastnacht (beweglicher Ferientag) unterrichtsfrei
DESCRIPTION:
URL:https://breddeschule.de/veranstaltung/fastnacht-beweglicher-ferientag-unterrichtsfrei/
CATEGORIES:2018/2019
END:VEVENT
BEGIN:VEVENT
DTSTART;TZID=Europe/Helsinki:20190307T081000
DTEND;TZID=Europe/Helsinki:20190307T090000
DTSTAMP:20260425T183851
CREATED:20180914T091210Z
LAST-MODIFIED:20180914T091210Z
UID:4035-1551946200-1551949200@breddeschule.de
SUMMARY:Vorlesestunde
DESCRIPTION:
URL:https://breddeschule.de/veranstaltung/vorlesestunde-3/
CATEGORIES:2018/2019
END:VEVENT
BEGIN:VEVENT
DTSTART;TZID=Europe/Helsinki:20190315T081500
DTEND;TZID=Europe/Helsinki:20190315T094500
DTSTAMP:20260425T183851
CREATED:20180914T091314Z
LAST-MODIFIED:20180914T091314Z
UID:4037-1552637700-1552643100@breddeschule.de
SUMMARY:Kinderflohmarkt
DESCRIPTION:
URL:https://breddeschule.de/veranstaltung/kinderflohmarkt-2/
CATEGORIES:2018/2019
END:VEVENT
BEGIN:VEVENT
DTSTART;VALUE=DATE:20190321
DTEND;VALUE=DATE:20190323
DTSTAMP:20260425T183851
CREATED:20180914T091401Z
LAST-MODIFIED:20180914T091401Z
UID:4039-1553155200-1553241599@breddeschule.de
SUMMARY:Theaterpädagogische Werkstatt Klassen 3 und 4
DESCRIPTION:
URL:https://breddeschule.de/veranstaltung/theaterpaedagogische-werkstatt-klassen-3-und-4/
CATEGORIES:2018/2019
END:VEVENT
BEGIN:VEVENT
DTSTART;VALUE=DATE:20190326
DTEND;VALUE=DATE:20190328
DTSTAMP:20260425T183851
CREATED:20190213T145430Z
LAST-MODIFIED:20190213T145430Z
UID:4258-1553587200-1553673599@breddeschule.de
SUMMARY:TRIXITT
DESCRIPTION:
URL:https://breddeschule.de/veranstaltung/trixitt/
CATEGORIES:2018/2019
END:VEVENT
BEGIN:VEVENT
DTSTART;VALUE=DATE:20190328
DTEND;VALUE=DATE:20190330
DTSTAMP:20260425T183851
CREATED:20180914T091428Z
LAST-MODIFIED:20180914T091428Z
UID:4041-1553760000-1553846399@breddeschule.de
SUMMARY:Theaterpädagogische Werkstatt Klassen 3 und 4
DESCRIPTION:
URL:https://breddeschule.de/veranstaltung/theaterpaedagogische-werkstatt-klassen-3-und-4-2/
CATEGORIES:2018/2019
END:VEVENT
END:VCALENDAR