BEGIN:VCALENDAR
VERSION:2.0
PRODID:-//Gemeinschaftsgrundschule - ECPv6.8.1//NONSGML v1.0//EN
CALSCALE:GREGORIAN
METHOD:PUBLISH
X-ORIGINAL-URL:https://breddeschule.de
X-WR-CALDESC:Veranstaltungen für Gemeinschaftsgrundschule
REFRESH-INTERVAL;VALUE=DURATION:PT1H
X-Robots-Tag:noindex
X-PUBLISHED-TTL:PT1H
BEGIN:VTIMEZONE
TZID:Europe/Helsinki
BEGIN:DAYLIGHT
TZOFFSETFROM:+0200
TZOFFSETTO:+0300
TZNAME:EEST
DTSTART:20180325T010000
END:DAYLIGHT
BEGIN:STANDARD
TZOFFSETFROM:+0300
TZOFFSETTO:+0200
TZNAME:EET
DTSTART:20181028T010000
END:STANDARD
BEGIN:DAYLIGHT
TZOFFSETFROM:+0200
TZOFFSETTO:+0300
TZNAME:EEST
DTSTART:20190331T010000
END:DAYLIGHT
BEGIN:STANDARD
TZOFFSETFROM:+0300
TZOFFSETTO:+0200
TZNAME:EET
DTSTART:20191027T010000
END:STANDARD
END:VTIMEZONE
BEGIN:VEVENT
DTSTART;TZID=Europe/Helsinki:20181203T081500
DTEND;TZID=Europe/Helsinki:20181203T083000
DTSTAMP:20260425T223845
CREATED:20180914T085836Z
LAST-MODIFIED:20180914T085836Z
UID:4001-1543824900-1543825800@breddeschule.de
SUMMARY:Adventssingen auf dem Schulhof
DESCRIPTION:
URL:https://breddeschule.de/veranstaltung/adventssingen-auf-dem-schulhof/
CATEGORIES:2018/2019
END:VEVENT
BEGIN:VEVENT
DTSTART;TZID=Europe/Helsinki:20181210T081000
DTEND;TZID=Europe/Helsinki:20181210T083000
DTSTAMP:20260425T223845
CREATED:20180914T085954Z
LAST-MODIFIED:20180914T085954Z
UID:4003-1544429400-1544430600@breddeschule.de
SUMMARY:Adventssingen auf dem Schulhof
DESCRIPTION:
URL:https://breddeschule.de/veranstaltung/adventssingen-auf-dem-schulhof-2/
CATEGORIES:2018/2019
END:VEVENT
BEGIN:VEVENT
DTSTART;TZID=Europe/Helsinki:20181214T170000
DTEND;TZID=Europe/Helsinki:20181214T180000
DTSTAMP:20260425T223845
CREATED:20180914T090121Z
LAST-MODIFIED:20180914T090121Z
UID:4007-1544806800-1544810400@breddeschule.de
SUMMARY:Adventskonzert auf dem Rathausplatz
DESCRIPTION:
URL:https://breddeschule.de/veranstaltung/adventskonzert-auf-dem-rathausplatz-2/
CATEGORIES:2018/2019
END:VEVENT
BEGIN:VEVENT
DTSTART;TZID=Europe/Helsinki:20181217T081000
DTEND;TZID=Europe/Helsinki:20181217T083000
DTSTAMP:20260425T223845
CREATED:20180914T090038Z
LAST-MODIFIED:20180914T090038Z
UID:4005-1545034200-1545035400@breddeschule.de
SUMMARY:Adventssingen auf dem Schulhof
DESCRIPTION:
URL:https://breddeschule.de/veranstaltung/adventssingen-auf-dem-schulhof-3/
CATEGORIES:2018/2019
END:VEVENT
BEGIN:VEVENT
DTSTART;TZID=Europe/Helsinki:20181220T081500
DTEND;TZID=Europe/Helsinki:20181220T084500
DTSTAMP:20260425T223845
CREATED:20180914T090206Z
LAST-MODIFIED:20180914T090206Z
UID:4009-1545293700-1545295500@breddeschule.de
SUMMARY:Ehrung der „Antolin“ – Kinder
DESCRIPTION:
URL:https://breddeschule.de/veranstaltung/ehrung-der-antolin-kinder/
CATEGORIES:2018/2019
END:VEVENT
BEGIN:VEVENT
DTSTART;VALUE=DATE:20181221
DTEND;VALUE=DATE:20190107
DTSTAMP:20260425T223845
CREATED:20180914T090301Z
LAST-MODIFIED:20180914T090301Z
UID:4011-1545379200-1546761599@breddeschule.de
SUMMARY:Weihnachtsferien
DESCRIPTION:
URL:https://breddeschule.de/veranstaltung/weihnachtsferien-6/
CATEGORIES:2018/2019
END:VEVENT
END:VCALENDAR