BEGIN:VCALENDAR
VERSION:2.0
PRODID:-//Gemeinschaftsgrundschule - ECPv6.8.1//NONSGML v1.0//EN
CALSCALE:GREGORIAN
METHOD:PUBLISH
X-WR-CALNAME:Gemeinschaftsgrundschule
X-ORIGINAL-URL:https://breddeschule.de
X-WR-CALDESC:Veranstaltungen für Gemeinschaftsgrundschule
REFRESH-INTERVAL;VALUE=DURATION:PT1H
X-Robots-Tag:noindex
X-PUBLISHED-TTL:PT1H
BEGIN:VTIMEZONE
TZID:Europe/Helsinki
BEGIN:DAYLIGHT
TZOFFSETFROM:+0200
TZOFFSETTO:+0300
TZNAME:EEST
DTSTART:20240331T010000
END:DAYLIGHT
BEGIN:STANDARD
TZOFFSETFROM:+0300
TZOFFSETTO:+0200
TZNAME:EET
DTSTART:20241027T010000
END:STANDARD
END:VTIMEZONE
BEGIN:VEVENT
DTSTART;TZID=Europe/Helsinki:20240701T080000
DTEND;TZID=Europe/Helsinki:20240701T120000
DTSTAMP:20260420T054350
CREATED:20230822T143326Z
LAST-MODIFIED:20231115T155534Z
UID:6028-1719820800-1719835200@breddeschule.de
SUMMARY:Zeugnisausgabe Klasse 1 - 3
DESCRIPTION:
URL:https://breddeschule.de/veranstaltung/zeugnisausgabe-klasse-1-3-2/
END:VEVENT
END:VCALENDAR