BEGIN:VCALENDAR
VERSION:2.0
PRODID:-//Gemeinschaftsgrundschule - ECPv6.8.1//NONSGML v1.0//EN
CALSCALE:GREGORIAN
METHOD:PUBLISH
X-WR-CALNAME:Gemeinschaftsgrundschule
X-ORIGINAL-URL:https://breddeschule.de
X-WR-CALDESC:Veranstaltungen für Gemeinschaftsgrundschule
REFRESH-INTERVAL;VALUE=DURATION:PT1H
X-Robots-Tag:noindex
X-PUBLISHED-TTL:PT1H
BEGIN:VTIMEZONE
TZID:Europe/Helsinki
BEGIN:DAYLIGHT
TZOFFSETFROM:+0200
TZOFFSETTO:+0300
TZNAME:EEST
DTSTART:20240331T010000
END:DAYLIGHT
BEGIN:STANDARD
TZOFFSETFROM:+0300
TZOFFSETTO:+0200
TZNAME:EET
DTSTART:20241027T010000
END:STANDARD
END:VTIMEZONE
BEGIN:VEVENT
DTSTART;VALUE=DATE:20240424
DTEND;VALUE=DATE:20240428
DTSTAMP:20260420T100708
CREATED:20230822T144056Z
LAST-MODIFIED:20231115T160617Z
UID:6048-1713945600-1714204799@breddeschule.de
SUMMARY:Klassenfahrt Klasse 4
DESCRIPTION:
URL:https://breddeschule.de/veranstaltung/klassenfahrt-klasse-4/
END:VEVENT
BEGIN:VEVENT
DTSTART;VALUE=DATE:20240425
DTEND;VALUE=DATE:20240427
DTSTAMP:20260420T100708
CREATED:20230822T142543Z
LAST-MODIFIED:20231115T160600Z
UID:6001-1714032000-1714118399@breddeschule.de
SUMMARY:VERA (Deutsch\, Klasse 3)
DESCRIPTION:
URL:https://breddeschule.de/veranstaltung/vera-deutsch-klasse-3-3/
END:VEVENT
END:VCALENDAR