BEGIN:VCALENDAR
VERSION:2.0
PRODID:-//Gemeinschaftsgrundschule - ECPv6.8.1//NONSGML v1.0//EN
CALSCALE:GREGORIAN
METHOD:PUBLISH
X-WR-CALNAME:Gemeinschaftsgrundschule
X-ORIGINAL-URL:https://breddeschule.de
X-WR-CALDESC:Veranstaltungen für Gemeinschaftsgrundschule
REFRESH-INTERVAL;VALUE=DURATION:PT1H
X-Robots-Tag:noindex
X-PUBLISHED-TTL:PT1H
BEGIN:VTIMEZONE
TZID:Europe/Helsinki
BEGIN:DAYLIGHT
TZOFFSETFROM:+0200
TZOFFSETTO:+0300
TZNAME:EEST
DTSTART:20230326T010000
END:DAYLIGHT
BEGIN:STANDARD
TZOFFSETFROM:+0300
TZOFFSETTO:+0200
TZNAME:EET
DTSTART:20231029T010000
END:STANDARD
END:VTIMEZONE
BEGIN:VEVENT
DTSTART;TZID=Europe/Helsinki:20230911T080000
DTEND;TZID=Europe/Helsinki:20230914T170000
DTSTAMP:20260420T194455
CREATED:20230822T140443Z
LAST-MODIFIED:20230822T140443Z
UID:5942-1694419200-1694710800@breddeschule.de
SUMMARY:Projektwoche "Trommelzauber"
DESCRIPTION:
URL:https://breddeschule.de/veranstaltung/projektwoche-trommelzauber/
END:VEVENT
BEGIN:VEVENT
DTSTART;TZID=Europe/Helsinki:20230911T180000
DTEND;TZID=Europe/Helsinki:20230911T180000
DTSTAMP:20260420T194455
CREATED:20230822T140540Z
LAST-MODIFIED:20230823T033000Z
UID:5944-1694455200-1694455200@breddeschule.de
SUMMARY:Elterninformationsabend zur Projektwoche "Trommelzauber" (Wideyhalle)
DESCRIPTION:
URL:https://breddeschule.de/veranstaltung/elterinformationsabend-zur-projektwoche-trommelzauber/
END:VEVENT
END:VCALENDAR