BEGIN:VCALENDAR
VERSION:2.0
PRODID:-//Gemeinschaftsgrundschule - ECPv6.8.1//NONSGML v1.0//EN
CALSCALE:GREGORIAN
METHOD:PUBLISH
X-WR-CALNAME:Gemeinschaftsgrundschule
X-ORIGINAL-URL:https://breddeschule.de
X-WR-CALDESC:Veranstaltungen für Gemeinschaftsgrundschule
REFRESH-INTERVAL;VALUE=DURATION:PT1H
X-Robots-Tag:noindex
X-PUBLISHED-TTL:PT1H
BEGIN:VTIMEZONE
TZID:Europe/Helsinki
BEGIN:DAYLIGHT
TZOFFSETFROM:+0200
TZOFFSETTO:+0300
TZNAME:EEST
DTSTART:20230326T010000
END:DAYLIGHT
BEGIN:STANDARD
TZOFFSETFROM:+0300
TZOFFSETTO:+0200
TZNAME:EET
DTSTART:20231029T010000
END:STANDARD
END:VTIMEZONE
BEGIN:VEVENT
DTSTART;TZID=Europe/Helsinki:20230906T180000
DTEND;TZID=Europe/Helsinki:20230906T180000
DTSTAMP:20260420T194428
CREATED:20230822T140242Z
LAST-MODIFIED:20230823T132425Z
UID:5938-1694023200-1694023200@breddeschule.de
SUMMARY:Schulpflegschaft
DESCRIPTION:
URL:https://breddeschule.de/veranstaltung/schulpflegschaft-5/
END:VEVENT
BEGIN:VEVENT
DTSTART;TZID=Europe/Helsinki:20230906T190000
DTEND;TZID=Europe/Helsinki:20230906T190000
DTSTAMP:20260420T194428
CREATED:20230822T140343Z
LAST-MODIFIED:20230823T132523Z
UID:5940-1694026800-1694026800@breddeschule.de
SUMMARY:Schulkonferenz
DESCRIPTION:
URL:https://breddeschule.de/veranstaltung/schulkonferenz-6/
END:VEVENT
END:VCALENDAR