BEGIN:VCALENDAR
VERSION:2.0
PRODID:-//Gemeinschaftsgrundschule - ECPv6.8.1//NONSGML v1.0//EN
CALSCALE:GREGORIAN
METHOD:PUBLISH
X-WR-CALNAME:Gemeinschaftsgrundschule
X-ORIGINAL-URL:https://breddeschule.de
X-WR-CALDESC:Veranstaltungen für Gemeinschaftsgrundschule
REFRESH-INTERVAL;VALUE=DURATION:PT1H
X-Robots-Tag:noindex
X-PUBLISHED-TTL:PT1H
BEGIN:VTIMEZONE
TZID:Europe/Helsinki
BEGIN:DAYLIGHT
TZOFFSETFROM:+0200
TZOFFSETTO:+0300
TZNAME:EEST
DTSTART:20230326T010000
END:DAYLIGHT
BEGIN:STANDARD
TZOFFSETFROM:+0300
TZOFFSETTO:+0200
TZNAME:EET
DTSTART:20231029T010000
END:STANDARD
END:VTIMEZONE
BEGIN:VEVENT
DTSTART;TZID=Europe/Helsinki:20230904T180000
DTEND;TZID=Europe/Helsinki:20230904T180000
DTSTAMP:20260420T194412
CREATED:20230822T143608Z
LAST-MODIFIED:20230823T033028Z
UID:6036-1693850400-1693850400@breddeschule.de
SUMMARY:Infoveranstaltung für Eltern der neuen Schulanfänger 2024/2025
DESCRIPTION:
URL:https://breddeschule.de/veranstaltung/infoveranstaltung-fuer-eltern-der-neuen-schulanfaenger-2024-2025/
END:VEVENT
END:VCALENDAR