BEGIN:VCALENDAR
VERSION:2.0
PRODID:-//Gemeinschaftsgrundschule - ECPv6.8.1//NONSGML v1.0//EN
CALSCALE:GREGORIAN
METHOD:PUBLISH
X-WR-CALNAME:Gemeinschaftsgrundschule
X-ORIGINAL-URL:https://breddeschule.de
X-WR-CALDESC:Veranstaltungen für Gemeinschaftsgrundschule
REFRESH-INTERVAL;VALUE=DURATION:PT1H
X-Robots-Tag:noindex
X-PUBLISHED-TTL:PT1H
BEGIN:VTIMEZONE
TZID:Europe/Helsinki
BEGIN:DAYLIGHT
TZOFFSETFROM:+0200
TZOFFSETTO:+0300
TZNAME:EEST
DTSTART:20220327T010000
END:DAYLIGHT
BEGIN:STANDARD
TZOFFSETFROM:+0300
TZOFFSETTO:+0200
TZNAME:EET
DTSTART:20221030T010000
END:STANDARD
END:VTIMEZONE
BEGIN:VEVENT
DTSTART;TZID=Europe/Helsinki:20221212T080000
DTEND;TZID=Europe/Helsinki:20221216T170000
DTSTAMP:20260421T072824
CREATED:20220810T145724Z
LAST-MODIFIED:20220810T145724Z
UID:5675-1670832000-1671210000@breddeschule.de
SUMMARY:Feuerrutschen
DESCRIPTION:
URL:https://breddeschule.de/veranstaltung/feuerrutschen-6/
END:VEVENT
BEGIN:VEVENT
DTSTART;VALUE=DATE:20221213
DTEND;VALUE=DATE:20221215
DTSTAMP:20260421T072824
CREATED:20220810T145656Z
LAST-MODIFIED:20220815T112700Z
UID:5673-1670918400-1671004799@breddeschule.de
SUMMARY:pädagogischer Tag (SchiLF)
DESCRIPTION:
URL:https://breddeschule.de/veranstaltung/studientag/
END:VEVENT
END:VCALENDAR