BEGIN:VCALENDAR
VERSION:2.0
PRODID:-//Gemeinschaftsgrundschule - ECPv6.8.1//NONSGML v1.0//EN
CALSCALE:GREGORIAN
METHOD:PUBLISH
X-WR-CALNAME:Gemeinschaftsgrundschule
X-ORIGINAL-URL:https://breddeschule.de
X-WR-CALDESC:Veranstaltungen für Gemeinschaftsgrundschule
REFRESH-INTERVAL;VALUE=DURATION:PT1H
X-Robots-Tag:noindex
X-PUBLISHED-TTL:PT1H
BEGIN:VTIMEZONE
TZID:Europe/Helsinki
BEGIN:DAYLIGHT
TZOFFSETFROM:+0200
TZOFFSETTO:+0300
TZNAME:EEST
DTSTART:20220327T010000
END:DAYLIGHT
BEGIN:STANDARD
TZOFFSETFROM:+0300
TZOFFSETTO:+0200
TZNAME:EET
DTSTART:20221030T010000
END:STANDARD
END:VTIMEZONE
BEGIN:VEVENT
DTSTART;TZID=Europe/Helsinki:20220915T090000
DTEND;TZID=Europe/Helsinki:20220915T120000
DTSTAMP:20260421T113108
CREATED:20220810T144248Z
LAST-MODIFIED:20220810T144248Z
UID:5635-1663232400-1663243200@breddeschule.de
SUMMARY:Zahnmobil
DESCRIPTION:
URL:https://breddeschule.de/veranstaltung/zahnmobil/
END:VEVENT
BEGIN:VEVENT
DTSTART;TZID=Europe/Helsinki:20220915T180000
DTEND;TZID=Europe/Helsinki:20220915T190000
DTSTAMP:20260421T113108
CREATED:20220810T144351Z
LAST-MODIFIED:20220810T144351Z
UID:5637-1663264800-1663268400@breddeschule.de
SUMMARY:Schulpflegschaft
DESCRIPTION:
URL:https://breddeschule.de/veranstaltung/schulpflegschaft-2/
END:VEVENT
BEGIN:VEVENT
DTSTART;TZID=Europe/Helsinki:20220915T190000
DTEND;TZID=Europe/Helsinki:20220915T200000
DTSTAMP:20260421T113108
CREATED:20220810T144423Z
LAST-MODIFIED:20220810T144423Z
UID:5639-1663268400-1663272000@breddeschule.de
SUMMARY:Schulkonferenz
DESCRIPTION:
URL:https://breddeschule.de/veranstaltung/schulkonferenz-4/
END:VEVENT
END:VCALENDAR