BEGIN:VCALENDAR
VERSION:2.0
PRODID:-//Gemeinschaftsgrundschule - ECPv6.8.1//NONSGML v1.0//EN
CALSCALE:GREGORIAN
METHOD:PUBLISH
X-WR-CALNAME:Gemeinschaftsgrundschule
X-ORIGINAL-URL:https://breddeschule.de
X-WR-CALDESC:Veranstaltungen für Gemeinschaftsgrundschule
REFRESH-INTERVAL;VALUE=DURATION:PT1H
X-Robots-Tag:noindex
X-PUBLISHED-TTL:PT1H
BEGIN:VTIMEZONE
TZID:Europe/Helsinki
BEGIN:DAYLIGHT
TZOFFSETFROM:+0200
TZOFFSETTO:+0300
TZNAME:EEST
DTSTART:20220327T010000
END:DAYLIGHT
BEGIN:STANDARD
TZOFFSETFROM:+0300
TZOFFSETTO:+0200
TZNAME:EET
DTSTART:20221030T010000
END:STANDARD
END:VTIMEZONE
BEGIN:VEVENT
DTSTART;VALUE=DATE:20220502
DTEND;VALUE=DATE:20220508
DTSTAMP:20260423T152106
CREATED:20210901T145802Z
LAST-MODIFIED:20210902T170337Z
UID:5435-1651478400-1651910399@breddeschule.de
SUMMARY:Methodenwoche "kooperatives Lernen"
DESCRIPTION:
URL:https://breddeschule.de/veranstaltung/methodenwoche-kooperatives-lernen/
END:VEVENT
BEGIN:VEVENT
DTSTART;VALUE=DATE:20220505
DTEND;VALUE=DATE:20220507
DTSTAMP:20260423T152106
CREATED:20210901T145703Z
LAST-MODIFIED:20210902T165132Z
UID:5433-1651737600-1651823999@breddeschule.de
SUMMARY:Vera Klasse 3 (Mathematik)
DESCRIPTION:
URL:https://breddeschule.de/veranstaltung/vera-mathematik-klasse-3/
END:VEVENT
END:VCALENDAR