BEGIN:VCALENDAR
VERSION:2.0
PRODID:-//Gemeinschaftsgrundschule - ECPv6.8.1//NONSGML v1.0//EN
CALSCALE:GREGORIAN
METHOD:PUBLISH
X-ORIGINAL-URL:https://breddeschule.de
X-WR-CALDESC:Veranstaltungen für Gemeinschaftsgrundschule
REFRESH-INTERVAL;VALUE=DURATION:PT1H
X-Robots-Tag:noindex
X-PUBLISHED-TTL:PT1H
BEGIN:VTIMEZONE
TZID:Europe/Helsinki
BEGIN:DAYLIGHT
TZOFFSETFROM:+0200
TZOFFSETTO:+0300
TZNAME:EEST
DTSTART:20200329T010000
END:DAYLIGHT
BEGIN:STANDARD
TZOFFSETFROM:+0300
TZOFFSETTO:+0200
TZNAME:EET
DTSTART:20201025T010000
END:STANDARD
END:VTIMEZONE
BEGIN:VEVENT
DTSTART;TZID=Europe/Helsinki:20201006T150000
DTEND;TZID=Europe/Helsinki:20201006T180000
DTSTAMP:20260424T170132
CREATED:20200909T154749Z
LAST-MODIFIED:20200909T154749Z
UID:4983-1601996400-1602007200@breddeschule.de
SUMMARY:Schulanfängeranmeldung für das Schulj. 2021/2022 (15:00-18:00 Uhr)- nach Terminvergabe (tel. Anmeldung erforderlich)
DESCRIPTION:
URL:https://breddeschule.de/veranstaltung/schulanfaengeranmeldung-fuer-das-schulj-2021-2022-1500-1800-uhr-nach-terminvergabe-tel-anmeldung-erforderlich/
END:VEVENT
END:VCALENDAR