BEGIN:VCALENDAR
VERSION:2.0
PRODID:-//Gemeinschaftsgrundschule - ECPv6.8.1//NONSGML v1.0//EN
CALSCALE:GREGORIAN
METHOD:PUBLISH
X-WR-CALNAME:Gemeinschaftsgrundschule
X-ORIGINAL-URL:https://breddeschule.de
X-WR-CALDESC:Veranstaltungen für Gemeinschaftsgrundschule
REFRESH-INTERVAL;VALUE=DURATION:PT1H
X-Robots-Tag:noindex
X-PUBLISHED-TTL:PT1H
BEGIN:VTIMEZONE
TZID:Europe/Helsinki
BEGIN:DAYLIGHT
TZOFFSETFROM:+0200
TZOFFSETTO:+0300
TZNAME:EEST
DTSTART:20200329T010000
END:DAYLIGHT
BEGIN:STANDARD
TZOFFSETFROM:+0300
TZOFFSETTO:+0200
TZNAME:EET
DTSTART:20201025T010000
END:STANDARD
END:VTIMEZONE
BEGIN:VEVENT
DTSTART;TZID=Europe/Helsinki:20200924T150000
DTEND;TZID=Europe/Helsinki:20200924T170000
DTSTAMP:20260424T183247
CREATED:20200819T063458Z
LAST-MODIFIED:20200819T063524Z
UID:4871-1600959600-1600966800@breddeschule.de
SUMMARY:Informationsveranstaltung für die Eltern der neuen Schulanfänger 2021/2022 (nach Terminvergabe - telefonische Anmeldung erforderlich)
DESCRIPTION:
URL:https://breddeschule.de/veranstaltung/informationsveranstaltung-fuer-die-eltern-der-neuen-schulanfaenger-2021-2022-nach-terminvergabe-telefonische-anmeldung-erforderlich/
END:VEVENT
END:VCALENDAR