BEGIN:VCALENDAR
VERSION:2.0
PRODID:-//Gemeinschaftsgrundschule - ECPv6.8.1//NONSGML v1.0//EN
CALSCALE:GREGORIAN
METHOD:PUBLISH
X-ORIGINAL-URL:https://breddeschule.de
X-WR-CALDESC:Veranstaltungen für Gemeinschaftsgrundschule
REFRESH-INTERVAL;VALUE=DURATION:PT1H
X-Robots-Tag:noindex
X-PUBLISHED-TTL:PT1H
BEGIN:VTIMEZONE
TZID:Europe/Helsinki
BEGIN:DAYLIGHT
TZOFFSETFROM:+0200
TZOFFSETTO:+0300
TZNAME:EEST
DTSTART:20180325T010000
END:DAYLIGHT
BEGIN:STANDARD
TZOFFSETFROM:+0300
TZOFFSETTO:+0200
TZNAME:EET
DTSTART:20181028T010000
END:STANDARD
END:VTIMEZONE
BEGIN:VEVENT
DTSTART;TZID=Europe/Helsinki:20181220T081500
DTEND;TZID=Europe/Helsinki:20181220T084500
DTSTAMP:20260425T235034
CREATED:20180914T090206Z
LAST-MODIFIED:20180914T090206Z
UID:4009-1545293700-1545295500@breddeschule.de
SUMMARY:Ehrung der „Antolin“ – Kinder
DESCRIPTION:
URL:https://breddeschule.de/veranstaltung/ehrung-der-antolin-kinder/
CATEGORIES:2018/2019
END:VEVENT
END:VCALENDAR