BEGIN:VCALENDAR
VERSION:2.0
PRODID:-//Gemeinschaftsgrundschule - ECPv6.8.1//NONSGML v1.0//EN
CALSCALE:GREGORIAN
METHOD:PUBLISH
X-ORIGINAL-URL:https://breddeschule.de
X-WR-CALDESC:Veranstaltungen für Gemeinschaftsgrundschule
REFRESH-INTERVAL;VALUE=DURATION:PT1H
X-Robots-Tag:noindex
X-PUBLISHED-TTL:PT1H
BEGIN:VTIMEZONE
TZID:Europe/Helsinki
BEGIN:DAYLIGHT
TZOFFSETFROM:+0200
TZOFFSETTO:+0300
TZNAME:EEST
DTSTART:20180325T010000
END:DAYLIGHT
BEGIN:STANDARD
TZOFFSETFROM:+0300
TZOFFSETTO:+0200
TZNAME:EET
DTSTART:20181028T010000
END:STANDARD
END:VTIMEZONE
BEGIN:VEVENT
DTSTART;VALUE=DATE:20181015
DTEND;VALUE=DATE:20181129
DTSTAMP:20260426T005702
CREATED:20180914T084124Z
LAST-MODIFIED:20180914T084124Z
UID:3985-1539590400-1543391999@breddeschule.de
SUMMARY:Herbstferien
DESCRIPTION:
URL:https://breddeschule.de/veranstaltung/herbstferien-6/
CATEGORIES:2018/2019
END:VEVENT
BEGIN:VEVENT
DTSTART;VALUE=DATE:20181029
DTEND;VALUE=DATE:20181031
DTSTAMP:20260426T005702
CREATED:20180914T084315Z
LAST-MODIFIED:20180914T084315Z
UID:3987-1540800000-1540886399@breddeschule.de
SUMMARY:Schulbeginn nach den Herbstferien (nach Plan)
DESCRIPTION:
URL:https://breddeschule.de/veranstaltung/schulbeginn-nach-den-herbstferien-nach-plan-4/
CATEGORIES:2018/2019
END:VEVENT
END:VCALENDAR