BEGIN:VCALENDAR
VERSION:2.0
PRODID:-//Gemeinschaftsgrundschule - ECPv6.8.1//NONSGML v1.0//EN
CALSCALE:GREGORIAN
METHOD:PUBLISH
X-ORIGINAL-URL:https://breddeschule.de
X-WR-CALDESC:Veranstaltungen für Gemeinschaftsgrundschule
REFRESH-INTERVAL;VALUE=DURATION:PT1H
X-Robots-Tag:noindex
X-PUBLISHED-TTL:PT1H
BEGIN:VTIMEZONE
TZID:Europe/Helsinki
BEGIN:DAYLIGHT
TZOFFSETFROM:+0200
TZOFFSETTO:+0300
TZNAME:EEST
DTSTART:20180325T010000
END:DAYLIGHT
BEGIN:STANDARD
TZOFFSETFROM:+0300
TZOFFSETTO:+0200
TZNAME:EET
DTSTART:20181028T010000
END:STANDARD
END:VTIMEZONE
BEGIN:VEVENT
DTSTART;VALUE=DATE:20180709
DTEND;VALUE=DATE:20180711
DTSTAMP:20260426T055754
CREATED:20170917T184215Z
LAST-MODIFIED:20170917T184215Z
UID:3287-1531123200-1531209599@breddeschule.de
SUMMARY:Zeugnisausgabe für die Klassen 1\, 2 und 3 (Beratungsgespräche nach Bedarf)
DESCRIPTION:
URL:https://breddeschule.de/veranstaltung/zeugnisausgabe-fuer-die-klassen-1-2-und-3-beratungsgespraeche-nach-bedarf-2/
CATEGORIES:2017/2018
END:VEVENT
END:VCALENDAR